BEGIN:VCALENDAR
VERSION:2.0
PRODID:-//wp-events-plugin.com//7.2.3.1//EN
BEGIN:VEVENT
UID:687@lincs.fr
DTSTART;TZID=Europe/Paris:20220302T150000
DTEND;TZID=Europe/Paris:20220302T160000
DTSTAMP:20220318T190714Z
URL:https://www.lincs.fr/events/wireless-scheduling-subject-to-slice-const
 raints/
SUMMARY:Wireless scheduling subject to slice constraints
DESCRIPTION:We present methods for achieving slice guarantees in cellular
 networks by adjusting the MAC scheduling weights. A network slice is a
 portion of a network that is carved out for a particular set of users or a
 particular type of traffic. One slice provided by a national operator could
 be used to support a Mobile Virtual Network Operator (MVNO)\, another could
 support Ultra-Reliable Low Latency Communication for vehicular
 applications\, and a third could support an enterprise application such as
 an advanced wireless enabled factory.\nOur goal is to optimize network
 utility (e.g. Proportional Fairness) subject to a variety of slice
 constraints such as the minimum aggregate rate provided to a slice\, the
 minimum total resources provided to a slice\, or a guarantee on the
 fairness of service within a slice. We show how such constraints can be
 achieved using multiplicative or additive adjustments to the standard
 Proportional Fair scheduler weights and we analyze the differences between
 the two approaches. We also discuss how the interaction between the
 constraints can make the situation significantly more complex than the
 analogous problem with single-user minimum rate constraints only. For
 example\, with minimum resource constraints the optimum solution can lie in
 the interior of the achievable rate region.\nThis is joint work with Sem
 Borst\, Siegfried Klein\, Hans Kroener and Silvio Mandelli.
CATEGORIES:Seminars,Youtube
LOCATION:Zoom + LINCS\, 23 avenue d'Italie\, Paris\, 75013\, France
X-APPLE-STRUCTURED-LOCATION;VALUE=URI;X-ADDRESS=23 avenue d'Italie\,
 Paris\, 75013\, France;X-APPLE-RADIUS=100;X-TITLE=Zoom + LINCS:geo:0,0
END:VEVENT
BEGIN:VTIMEZONE
TZID:Europe/Paris
X-LIC-LOCATION:Europe/Paris
BEGIN:STANDARD
DTSTART:20211031T020000
TZOFFSETFROM:+0200
TZOFFSETTO:+0100
TZNAME:CET
END:STANDARD
END:VTIMEZONE
END:VCALENDAR