BEGIN:VCALENDAR
VERSION:2.0
PRODID:-//wp-events-plugin.com//7.2.3.1//EN
BEGIN:VEVENT
UID:115@lincs.fr
DTSTART;TZID=Europe/Paris:20141217T140000
DTEND;TZID=Europe/Paris:20141217T150000
DTSTAMP:20170313T171205Z
URL:https://www.lincs.fr/events/cloud-2020-emergence-micro-datacenter-mobi
 le-computing/
SUMMARY:Cloud 2020: The Emergence of Micro Datacenter for Mobile Computing
DESCRIPTION:Resource poverty is a fundamental constraint that severely
 limits the types of applications that can be run on mobile devices. This
 constraint is not just a temporary limitation of current technology but is
 intrinsic to mobility. In this talk\, I will put forth a vision of the
 cloud that breaks free of this fundamental constraint. In this vision\,
 mobile users seamlessly utilize nearby computers to obtain the resource
 benefits of cloud computing without incurring WAN delays and jitter. Rather
 than relying on a distant cloud the client connects and uses a nearby micro
 datacenter (mDC). Crisp interactive response for immersive applications
 that augment human cognition are then easier to achieve. While much
 engineering and research remains\, the concepts and ideas introduced open
 the door to a new world of disaggregated computing in which seamless
 cognitive assistance for users can be delivered at any time and any
 place.\n\nVictor Bahl is a Principal Researcher and the Director of the
 Mobility &amp\; Networking Research (MNR) group in Microsoft Research.
 MNR's mission is to invent &amp\; research technologies that make
 Microsoft's networks\, services\, and devices indispensable to the world.
 In addition to shepherding brilliant researchers\, Victor helps shape
 Microsoft's long-term vision related to networking technologies by advising
 the CEO and senior executive team\, and by executing on this vision through
 research\, technology transfers\, and associated policy engagements with
 governments and industries around the world. He and his group have had
 far-reaching impact on the research community\, government policy\, and
 Microsoft products through numerous significant publications and technology
 transfers. His personal research spans a variety of topics in mobile &amp\;
 cloud computing\, wireless systems &amp\; services\, and datacenter &amp\;
 enterprise networking. Over his career he has built many highly cited
 seminal systems\, published prolifically in top conferences and journals\,
 authored 115 patents\, given over three dozen keynote talks\, won numerous
 prestigious awards and honors including ACM SIGMOBILE's Lifetime
 Achievement Award and IEEE Outstanding Leadership and Professional Service
 Award. Victor received his PhD from the University of Massachusetts Amherst
 in 1997. He is a Fellow of the ACM\, IEEE and AAAS.
CATEGORIES:Seminars,Youtube
LOCATION:LINCS Meeting Room 40\, 23\, avenue d'Italie\, Paris\, 75013\,
 France
GEO:48.8283983;2.3568972000000485
X-APPLE-STRUCTURED-LOCATION;VALUE=URI;X-ADDRESS=23\, avenue d'Italie\,
 Paris\, 75013\, France;X-APPLE-RADIUS=100;X-TITLE=LINCS Meeting Room
 40:geo:48.8283983,2.3568972000000485
END:VEVENT
BEGIN:VTIMEZONE
TZID:Europe/Paris
X-LIC-LOCATION:Europe/Paris
BEGIN:STANDARD
DTSTART:20141026T020000
TZOFFSETFROM:+0200
TZOFFSETTO:+0100
TZNAME:CET
END:STANDARD
END:VTIMEZONE
END:VCALENDAR