BEGIN:VCALENDAR
VERSION:2.0
PRODID:-//wp-events-plugin.com//7.2.3.1//EN
BEGIN:VEVENT
UID:69@lincs.fr
DTSTART;TZID=Europe/Paris:20160120T140000
DTEND;TZID=Europe/Paris:20160120T160000
DTSTAMP:20211125T121524Z
URL:https://www.lincs.fr/events/virtualization-techniques-in-the-design-of
 -5g-networks/
SUMMARY:Virtualization techniques in the design of 5G networks
DESCRIPTION:We describe in this talk the new possibilities offered by
 virtualization techniques in the design of 5G networks. We precisely
 introduce a convergent gateway realizing fixed/mobile convergence. Such a
 functional element is based on modules instantiated on virtual machines (or
 dockers)\, each module implementing specific tasks for convergence. A
 convergent gateway can be instantiated by a network operating system
 (GlobalOS) in charge of managing the network. One important component of
 GlobalOS is the orchestration of resources. We introduce some algorithms
 for resource orchestration in the framework of GlobalOS. We finally focus
 on the specific case of virtualized base band unit (BBU) functions.
CATEGORIES:Seminars,Youtube
LOCATION:LINCS Meeting Room 40\, 23\, avenue d'Italie\, Paris\, 75013\,
 France
GEO:48.8283983;2.3568972000000485
X-APPLE-STRUCTURED-LOCATION;VALUE=URI;X-ADDRESS=23\, avenue d'Italie\,
 Paris\, 75013\, France;X-APPLE-RADIUS=100;X-TITLE=LINCS Meeting Room
 40:geo:48.8283983,2.3568972000000485
END:VEVENT
BEGIN:VTIMEZONE
TZID:Europe/Paris
X-LIC-LOCATION:Europe/Paris
BEGIN:STANDARD
DTSTART:20151025T020000
TZOFFSETFROM:+0200
TZOFFSETTO:+0100
TZNAME:CET
END:STANDARD
END:VTIMEZONE
END:VCALENDAR