BEGIN:VCALENDAR
VERSION:2.0
PRODID:-//wp-events-plugin.com//7.2.3.1//EN
BEGIN:VEVENT
UID:127@lincs.fr
DTSTART;TZID=Europe/Paris:20140918T140000
DTEND;TZID=Europe/Paris:20140918T150000
DTSTAMP:20170313T171221Z
URL:https://www.lincs.fr/events/maintenance-et-evolution-des-logiciels/
SUMMARY:Maintenance et Evolution des logiciels
DESCRIPTION:Rue Barrault\, Amphi Opale
CATEGORIES:Seminars
END:VEVENT
BEGIN:VTIMEZONE
TZID:Europe/Paris
X-LIC-LOCATION:Europe/Paris
BEGIN:DAYLIGHT
DTSTART:20140330T030000
TZOFFSETFROM:+0100
TZOFFSETTO:+0200
TZNAME:CEST
END:DAYLIGHT
END:VTIMEZONE
END:VCALENDAR