BEGIN:VCALENDAR
VERSION:2.0
PRODID:-//wp-events-plugin.com//7.2.3.1//EN
BEGIN:VEVENT
UID:61@lincs.fr
DTSTART;TZID=Europe/Paris:20160302T140000
DTEND;TZID=Europe/Paris:20160302T150000
DTSTAMP:20170313T170919Z
URL:https://www.lincs.fr/events/an-opportunistic-blanking-subframe-obs-sol
 ution-for-5g-networks/
SUMMARY:An Opportunistic Blanking SubFrame (OBS) solution for 5G networks
DESCRIPTION:\n\n\nAbstract:\nTelco operators view network densification as
 a viable solution for the challenging goals set for the next generation
 cellular networks. Among other goals\, network densification would help
 accomodating the always increasing mobile demand or would allow to
 considerably reduce connection latency. Nevertheless\, along with network
 densification\, many issues arise. For example\, sever inter-cell
 interference (ICI) may considerably limit network capacity if coordination
 among base stations is not used. To tackle such a problem\, we focus on the
 well-known Almost Blank Sub-Frame (ABS or ABSF) solution. With ABSF\, in
 order to reduce interference\, not all the base stations are allowed to
 transmit at the same time. In this talk\, we question the ability of ABSF
 of improving both aggregate system throughput and transmission efficiency
 and we show how ABSF may purse some other different objectives. In
 contrast\, we show that a better way of improving system throughput is
 enabling Device-to-Device communications among UEs and opportunistic
 forwarding. Therefore\, we propose a novel mechanism (OBS) that exploits
 and coordinates simultaneously ABSF and opportunistic forwarding to improve
 system throughput and user fairness. Our approach has been validated
 against state of the art approaches through an extensive simulation
 campaign\, even using real data from a network operator.\n\n\n\n&nbsp\;
CATEGORIES:Seminars
LOCATION:LINCS Meeting Room 40\, 23\, avenue d'Italie\, Paris\, 75013\,
 France
GEO:48.8283983;2.3568972000000485
X-APPLE-STRUCTURED-LOCATION;VALUE=URI;X-ADDRESS=23\, avenue d'Italie\,
 Paris\, 75013\, France;X-APPLE-RADIUS=100;X-TITLE=LINCS Meeting Room
 40:geo:48.8283983,2.3568972000000485
END:VEVENT
BEGIN:VTIMEZONE
TZID:Europe/Paris
X-LIC-LOCATION:Europe/Paris
BEGIN:STANDARD
DTSTART:20151025T020000
TZOFFSETFROM:+0200
TZOFFSETTO:+0100
TZNAME:CET
END:STANDARD
END:VTIMEZONE
END:VCALENDAR