BEGIN:VCALENDAR
VERSION:2.0
PRODID:-//wp-events-plugin.com//7.2.3.1//EN
BEGIN:VEVENT
UID:80@lincs.fr
DTSTART;TZID=Europe/Paris:20150916T140000
DTEND;TZID=Europe/Paris:20150916T150000
DTSTAMP:20220210T124433Z
URL:https://www.lincs.fr/events/towards-a-software-defined-network-operati
 ng-system-for-the-iot/
SUMMARY:Towards a Software-Defined Network Operating System for the IoT
DESCRIPTION:\n\n\nAbstract:\nThe heterogeneity characterizing the Internet
 of Things (IoT) landscape can be addressed by leveraging network operating
 systems (NOS)s. Current NOS solutions have been developed for traditional
 infrastructured networks: they do not take the specific features of
 fundamental IoT components such as wireless sensor and actor networks into
 account. In this talk an innovative integrated network operating system for
 the IoT which is obtained as the evolution of theOpen Network Operating
 System (ONOS) will be presented. This has been appropriately extended to
 enhance the recently proposed SDN-WISE platform for supporting SDN in
 wireless sensor networks and let it interact with standard OpenFlow (OF)
 switches. The proposed integrated system has been prototyped and
 tested.\n\n\nBiography:\nGiacomo Morabito was born in Messina\, Sicily
 (Italy) on March 16\, 1972. He received the laurea degree in Electrical
 Engineering and the PhD inElectrical\, Computer and Telecommunications
 Engineering from the Istituto di Informatica e Telecomunicazioni\,
 University of Catania \, Catania (Italy)\, in 1996 and 2000\, respectively.
 From November 1999 to April 2001\, he was with the Broadband and Wireless
 Networking Laboratory of the Georgia Institute of Technology as a Research
 Engineer. Since April 2001 he is with the Dipartimento di Ingegneria
 Informatica e delle Telecomunicazioni of the University of Catania where he
 is currently Associate Professor. His research interests focus on analysis
 and solutions for wireless networks.\n\n\n
CATEGORIES:Seminars,Youtube
LOCATION:LINCS Meeting Room 40\, 23\, avenue d'Italie\, Paris\, 75013\,
 France
GEO:48.8283983;2.3568972000000485
X-APPLE-STRUCTURED-LOCATION;VALUE=URI;X-ADDRESS=23\, avenue d'Italie\,
 Paris\, 75013\, France;X-APPLE-RADIUS=100;X-TITLE=LINCS Meeting Room
 40:geo:48.8283983,2.3568972000000485
END:VEVENT
BEGIN:VTIMEZONE
TZID:Europe/Paris
X-LIC-LOCATION:Europe/Paris
BEGIN:DAYLIGHT
DTSTART:20150329T030000
TZOFFSETFROM:+0100
TZOFFSETTO:+0200
TZNAME:CEST
END:DAYLIGHT
END:VTIMEZONE
END:VCALENDAR