BEGIN:VCALENDAR
VERSION:2.0
PRODID:-//wp-events-plugin.com//7.2.3.1//EN
BEGIN:VEVENT
UID:934@lincs.fr
DTSTART;TZID=Europe/Paris:20260204T134500
DTEND;TZID=Europe/Paris:20260204T144500
DTSTAMP:20260212T091120Z
URL:https://www.lincs.fr/events/towards-a-federated-public-computing-conti
 nuum-platform/
SUMMARY:Towards a Federated Public Computing Continuum Platform
DESCRIPTION:Building a large-scale\, multi-tenant\, public\, and
 geo-distributed computing continuum platform that includes both cloud and
 edge environments\, and where any application can be deployed\, requires a
 large amount of computing resources deployed across strategically
 distributed locations\, spanning an entire country or even a continent. One
 of the challenges to realizing this public computing continuum platform is
 scalability. To this end\, we focus on addressing some scalability
 challenges and propose a series of solutions. First\, we present the
 meta-federations concept\, where many independent local resource providers
 may lease their resources to multiple fog providers to solve the service
 coverage and resource utilization issues. We propose UnBound\, a scalable
 meta-federations framework that specifically addresses the difficult
 multi-tenancy challenges introduced by metafederations. Second\, we propose
 two monitoring frameworks designed for geo-distributed cluster federation
 environments\, Acala and AdapPF\, which aim to reduce the cross-cluster
 network traffic of monitoring while maintaining the accuracy of the
 monitoring data.
CATEGORIES:Seminars,Youtube
LOCATION:Amphi Rose Dieng\, 19 place Marguerite Perey\, Palaiseau\, France
X-APPLE-STRUCTURED-LOCATION;VALUE=URI;X-ADDRESS=19 place Marguerite Perey\,
 Palaiseau\, France;X-APPLE-RADIUS=100;X-TITLE=Amphi Rose Dieng:geo:0,0
END:VEVENT
BEGIN:VTIMEZONE
TZID:Europe/Paris
X-LIC-LOCATION:Europe/Paris
BEGIN:STANDARD
DTSTART:20251026T020000
TZOFFSETFROM:+0200
TZOFFSETTO:+0100
TZNAME:CET
END:STANDARD
END:VTIMEZONE
END:VCALENDAR