BEGIN:VCALENDAR
VERSION:2.0
PRODID:-//wp-events-plugin.com//7.2.3.1//EN
BEGIN:VEVENT
UID:926@lincs.fr
DTSTART;TZID=Europe/Paris:20260121T140000
DTEND;TZID=Europe/Paris:20260121T150000
DTSTAMP:20260122T115650Z
URL:https://www.lincs.fr/events/toward-a-privacy-aware-intrusion-detection
 -in-intelligent-transportation-systems/
SUMMARY:Toward a privacy aware intrusion detection in  Intelligent
 Transportation Systems
DESCRIPTION:In Cooperative Intelligent Transportation Systems (C-ITS)\, the
 continuous exchange of large data volumes is critical for the effectiveness
 of applications\, making the security of these messages essential. For
 instance\, to protect the privacy of road users\, vehicles are required to
 frequently change their pseudonyms\, along with other network identifiers
 such as IP addresses\, MAC addresses\, and so on. This dynamic nature of
 identifier changes introduces significant challenges for performing
 efficient intrusion detection\, as tracking and identifying malicious
 behavior becomes more complex.\n\nIn this context\, there is a growing need
 for an advanced Intrusion Detection System (IDS) tailored for C-ITS
 environments. This IDS must ensure a balance between meeting the strict
 privacy requirements set by standards and enhancing the detection and
 prevention of intrusions and cyber threats. \n\nIn this presentation\, we
 emphasize the critical importance of privacy-aware intrusion detection and
 provide key recommendations for conducting research in this domain.
CATEGORIES:Seminars,Youtube
LOCATION:Amphi 6\, 19 Place Marguerite Perey\, Palaiseau\, France
X-APPLE-STRUCTURED-LOCATION;VALUE=URI;X-ADDRESS=19 Place Marguerite Perey\,
 Palaiseau\, France;X-APPLE-RADIUS=100;X-TITLE=Amphi 6:geo:0,0
END:VEVENT
BEGIN:VTIMEZONE
TZID:Europe/Paris
X-LIC-LOCATION:Europe/Paris
BEGIN:STANDARD
DTSTART:20251026T020000
TZOFFSETFROM:+0200
TZOFFSETTO:+0100
TZNAME:CET
END:STANDARD
END:VTIMEZONE
END:VCALENDAR