BEGIN:VCALENDAR
VERSION:2.0
PRODID:-//wp-events-plugin.com//7.2.3.1//EN
BEGIN:VEVENT
UID:2@lincs.fr
DTSTART;TZID=Europe/Paris:20170201T150000
DTEND;TZID=Europe/Paris:20170201T160000
DTSTAMP:20170313T161956Z
URL:https://www.lincs.fr/events/the-futebol-project-experimentation-on-the
 -opticalwireless-network-frontier/
SUMMARY:The FUTEBOL project - experimentation on the optical/wireless
 network frontier
DESCRIPTION:This talk will present the FUTEBOL project\, which is a joint
 EU-Brazilproject focused on the creation of experimental testbeds.
 TheprojectÃ¢â‚¬â„¢s goal is to allow the access to advanced
 experimentalfacilities in Europe and Brazil for research and education
 across thewireless and optical domains. To accomplish this\, we will
 develop aconverged control framework to support
 optical/wirelessexperimentation on the federated research infrastructure
 from allassociated partners/institutions. Further\, industry-driven use
 caseswill be demonstrated using this testbed to produce advances inresearch
 at the optical/wireless boundary. The talk will provide anoverview of the
 project\, presenting the proposed testbeds as well asthe experiments that
 we will perform to showcase the importance ofoptical/wireless integration
 on todayÃ¢â‚¬â„¢s networks. Those use casesinvolve topics such as
 C-RAN and radio over fiber and low latencynetworking for real-time
 applications on IoT and immersive services.
CATEGORIES:Seminars,Youtube
LOCATION:LINCS Meeting Room 40\, 23\, avenue d'Italie\, Paris\, 75013\,
 France
GEO:48.8283983;2.3568972000000485
X-APPLE-STRUCTURED-LOCATION;VALUE=URI;X-ADDRESS=23\, avenue d'Italie\,
 Paris\, 75013\, France;X-APPLE-RADIUS=100;X-TITLE=LINCS Meeting Room
 40:geo:48.8283983,2.3568972000000485
END:VEVENT
BEGIN:VTIMEZONE
TZID:Europe/Paris
X-LIC-LOCATION:Europe/Paris
BEGIN:STANDARD
DTSTART:20161030T020000
TZOFFSETFROM:+0200
TZOFFSETTO:+0100
TZNAME:CET
END:STANDARD
END:VTIMEZONE
END:VCALENDAR