BEGIN:VCALENDAR
VERSION:2.0
PRODID:-//wp-events-plugin.com//7.2.3.1//EN
BEGIN:VEVENT
UID:4@lincs.fr
DTSTART;TZID=Europe/Paris:20170208T140000
DTEND;TZID=Europe/Paris:20170208T150000
DTSTAMP:20170329T121506Z
URL:https://www.lincs.fr/events/tbd-8/
SUMMARY:Data Protection by Means of Fragmentation
DESCRIPTION:\n\n\nAlthough symmetric ciphers may provide strong
 computational security\, a key leakage makes the encrypted data vulnerable.
 In a distributed storage environment\, reinforcement of data protection
 consists of dispersing data over multiple servers in a way that no
 information can be obtained from data fragments until a defined threshold
 of them has been collected. A secure fragmentation is usually enabled by
 secret sharing\, information dispersal algorithms or data shredding.
 However\, these solutions suffer from various limitations\, like additional
 storage requirement or performance burden. Therefore\, we introduce a novel
 flexible keyless fragmentation scheme\, balancing memory use and
 performance with security. It could be applied in many different contexts\,
 such as dispersal of outsourced data over one or multiple clouds or in
 resource-restrained environments like sensor networks.\n\n\n
CATEGORIES:Seminars,Youtube
LOCATION:LINCS Meeting Room 40\, 23\, avenue d'Italie\, Paris\, 75013\,
 France
GEO:48.8283983;2.3568972000000485
X-APPLE-STRUCTURED-LOCATION;VALUE=URI;X-ADDRESS=23\, avenue d'Italie\,
 Paris\, 75013\, France;X-APPLE-RADIUS=100;X-TITLE=LINCS Meeting Room
 40:geo:48.8283983,2.3568972000000485
END:VEVENT
BEGIN:VTIMEZONE
TZID:Europe/Paris
X-LIC-LOCATION:Europe/Paris
BEGIN:STANDARD
DTSTART:20161030T020000
TZOFFSETFROM:+0200
TZOFFSETTO:+0100
TZNAME:CET
END:STANDARD
END:VTIMEZONE
END:VCALENDAR