BEGIN:VCALENDAR
VERSION:2.0
PRODID:-//wp-events-plugin.com//7.2.3.1//EN
BEGIN:VEVENT
UID:598@lincs.fr
DTSTART;TZID=Europe/Paris:20210113T110000
DTEND;TZID=Europe/Paris:20210113T120000
DTSTAMP:20210118T152849Z
URL:https://www.lincs.fr/events/takeaways-of-building-a-research-oriented-
 system/
SUMMARY:Takeaways of building a research-oriented system
DESCRIPTION:Building a modern\, scalable and fault-tolerant system in
 Python has never been so easy and enjoyable. Here is some takeaways of
 building such system in for research operations.\n\nSlides
CATEGORIES:Tools, Tips and Tricks,Working Group,Youtube
END:VEVENT
BEGIN:VTIMEZONE
TZID:Europe/Paris
X-LIC-LOCATION:Europe/Paris
BEGIN:STANDARD
DTSTART:20201025T020000
TZOFFSETFROM:+0200
TZOFFSETTO:+0100
TZNAME:CET
END:STANDARD
END:VTIMEZONE
END:VCALENDAR