BEGIN:VCALENDAR
VERSION:2.0
PRODID:-//wp-events-plugin.com//7.2.3.1//EN
BEGIN:VEVENT
UID:488@lincs.fr
DTSTART;TZID=Europe/Paris:20190612T170000
DTEND;TZID=Europe/Paris:20190612T171500
DTSTAMP:20190806T132434Z
URL:https://www.lincs.fr/events/stakecube-combining-sharding-and-proof-of-
 stake-to-build-fork-free-secure-permissionless-distributed-ledgers/
SUMMARY:Stakecube:  Combining Sharding and Proof-of-Stake to build Fork-
 free Secure Permissionless Distributed Ledgers
DESCRIPTION:\nTags: Stakecube:  Combining Sharding and Proof-of-Stake to
 build Fork- free Secure Permissionless Distributed Ledgers \, Antoine
 Durand \, IRT SystemX \, BlockchainDay\n\n\n\nSlides Antoine Durand -
 StakecubeDownload\n
CATEGORIES:BlockChain Day,Other Worshops,Workshop,Youtube
LOCATION:Paris-Rennes-Nice Room (EIT Digital)\, 23\, avenue d'Italie\,
 Paris\, 75013\, France
X-APPLE-STRUCTURED-LOCATION;VALUE=URI;X-ADDRESS=23\, avenue d'Italie\,
 Paris\, 75013\, France;X-APPLE-RADIUS=100;X-TITLE=Paris-Rennes-Nice Room
 (EIT Digital):geo:0,0
END:VEVENT
BEGIN:VTIMEZONE
TZID:Europe/Paris
X-LIC-LOCATION:Europe/Paris
BEGIN:DAYLIGHT
DTSTART:20190331T030000
TZOFFSETFROM:+0100
TZOFFSETTO:+0200
TZNAME:CEST
END:DAYLIGHT
END:VTIMEZONE
END:VCALENDAR