BEGIN:VCALENDAR
VERSION:2.0
PRODID:-//wp-events-plugin.com//7.2.3.1//EN
BEGIN:VEVENT
UID:88@lincs.fr
DTSTART;TZID=Europe/Paris:20150617T110000
DTEND;TZID=Europe/Paris:20150617T120000
DTSTAMP:20170313T171041Z
URL:https://www.lincs.fr/events/the-capacity-of-wireless-networks-for-emer
 ging-applications/
SUMMARY:The Capacity of Wireless Networks for Emerging Applications
DESCRIPTION:\n\n\nAbstract:\nFuture wireless traffic is going to be
 dominated by emerging applications such as VoIP\, video conferencing\,
 video/audio streaming\, etc. These applications have their unique traffic
 patterns\, performance metrics\, and service requirements. Traditional
 network performance metrics\, such as throughput\, delay\, and delay
 jitter\, can no longer provide a precise characterization for these
 emerging applications. In this talk\, we discuss two different kinds of
 emerging applications. We introduce an analytical framework to model these
 applications and practical characteristics of wireless channels. We derive
 the capacity regions of wireless networks for serving these applications\,
 and develop tractable scheduling policies for achieving the capacity
 regions.\n\n\nBiography:\nI-Hong Hou is an assistant professor in the ECE
 Department of the Texas A&amp\;M University. He received his Ph.D. from the
 Computer Science Department of the University of Illinois at
 Urbana-Champaign. His research interests include wireless networks\,
 wireless sensor networks\, and real-time systems. He received the C.W. Gear
 Outstanding Graduate Student Award from the University of Illinois at
 Urbana-Champaign\, and the Silver Prize in the Asian Pacific Mathematics
 Olympiad.\n\n\n
CATEGORIES:Seminars,Youtube
LOCATION:LINCS Meeting Room 40\, 23\, avenue d'Italie\, Paris\, 75013\,
 France
GEO:48.8283983;2.3568972000000485
X-APPLE-STRUCTURED-LOCATION;VALUE=URI;X-ADDRESS=23\, avenue d'Italie\,
 Paris\, 75013\, France;X-APPLE-RADIUS=100;X-TITLE=LINCS Meeting Room
 40:geo:48.8283983,2.3568972000000485
END:VEVENT
BEGIN:VTIMEZONE
TZID:Europe/Paris
X-LIC-LOCATION:Europe/Paris
BEGIN:DAYLIGHT
DTSTART:20150329T030000
TZOFFSETFROM:+0100
TZOFFSETTO:+0200
TZNAME:CEST
END:DAYLIGHT
END:VTIMEZONE
END:VCALENDAR