BEGIN:VCALENDAR
VERSION:2.0
PRODID:-//wp-events-plugin.com//7.2.3.1//EN
BEGIN:VEVENT
UID:53@lincs.fr
DTSTART;TZID=Europe/Paris:20160511T140000
DTEND;TZID=Europe/Paris:20160511T150000
DTSTAMP:20170313T170916Z
URL:https://www.lincs.fr/events/3830/
SUMMARY:Networks of multi-server queues with parallel processing
DESCRIPTION:\n\n\nWe consider a network of multi-server queues wherein each
 job can be processed in parallel by any subset of servers within a
 pre-defined set that depends on its class. Each server is allocated in FCFS
 order at each queue. Jobs arrive according to Poisson processes\, have
 independent exponential service requirements and are routed independently
 at random. We prove that the network state has a product-form stationary
 distribution\, in the open\, closed and mixed cases. From a practical
 perspective\, we propose an algorithm on this basis to allocate the
 resources of a computer cluster.\n\n\n
CATEGORIES:Seminars,Youtube
LOCATION:LINCS Meeting Room 40\, 23\, avenue d'Italie\, Paris\, 75013\,
 France
GEO:48.8283983;2.3568972000000485
X-APPLE-STRUCTURED-LOCATION;VALUE=URI;X-ADDRESS=23\, avenue d'Italie\,
 Paris\, 75013\, France;X-APPLE-RADIUS=100;X-TITLE=LINCS Meeting Room
 40:geo:48.8283983,2.3568972000000485
END:VEVENT
BEGIN:VTIMEZONE
TZID:Europe/Paris
X-LIC-LOCATION:Europe/Paris
BEGIN:DAYLIGHT
DTSTART:20160327T030000
TZOFFSETFROM:+0100
TZOFFSETTO:+0200
TZNAME:CEST
END:DAYLIGHT
END:VTIMEZONE
END:VCALENDAR