BEGIN:VCALENDAR
VERSION:2.0
PRODID:-//wp-events-plugin.com//7.2.3.1//EN
BEGIN:VEVENT
UID:580@lincs.fr
DTSTART;TZID=Europe/Paris:20201118T104500
DTEND;TZID=Europe/Paris:20201118T121500
DTSTAMP:20201118T144359Z
URL:https://www.lincs.fr/events/simpy-package-tutorial/
SUMMARY:SimPy Package tutorial
DESCRIPTION:SimPy is a python package for discrete event simulations based
 on python’s standard generators. This tutorial will demonstrate how you
 can use SimPy to implement event-discrete simulations and which features
 SimPy offers to help you doing that. We will also go through an example for
 queueing network systems.\n\n
CATEGORIES:Tools, Tips and Tricks,Working Group,Youtube
END:VEVENT
BEGIN:VTIMEZONE
TZID:Europe/Paris
X-LIC-LOCATION:Europe/Paris
BEGIN:STANDARD
DTSTART:20201025T020000
TZOFFSETFROM:+0200
TZOFFSETTO:+0100
TZNAME:CET
END:STANDARD
END:VTIMEZONE
END:VCALENDAR