BEGIN:VCALENDAR
VERSION:2.0
PRODID:-//wp-events-plugin.com//7.2.3.1//EN
BEGIN:VEVENT
UID:154@lincs.fr
DTSTART;TZID=Europe/Paris:20140410T150000
DTEND;TZID=Europe/Paris:20140410T160000
DTSTAMP:20170313T171308Z
URL:https://www.lincs.fr/events/shannon-infinity/
SUMMARY:From Shannon to Infinity
DESCRIPTION:Abstract: TBA\nBiography: Janos Korner has been a Professor in
 Computer Science at "Sapienza" University of Rome since 1993. He obtained
 his Degree in Mathematics in 1970. From 1970 to 1992 he worked at the
 Mathematical Institute of the Hungarian Academy of Sciences. During these
 years he had two periods of leave: from 1981 to 1983 working at Bell
 Laboratories\, Murray Hill\, NJ\, and for the academic year 1987-88 working
 at ENST\, Paris\, France. He is an Associate Editor of IEEE Trans.
 Information Theory. In 2010 he was elected to the Hungarian Academy of
 Sciences as an External Member. He received the Claude Shannon Award of the
 IEEE Information Theory Society for 2014.
CATEGORIES:Seminars
LOCATION:LINCS Meeting Room 40\, 23\, avenue d'Italie\, Paris\, 75013\,
 France
GEO:48.8283983;2.3568972000000485
X-APPLE-STRUCTURED-LOCATION;VALUE=URI;X-ADDRESS=23\, avenue d'Italie\,
 Paris\, 75013\, France;X-APPLE-RADIUS=100;X-TITLE=LINCS Meeting Room
 40:geo:48.8283983,2.3568972000000485
END:VEVENT
BEGIN:VTIMEZONE
TZID:Europe/Paris
X-LIC-LOCATION:Europe/Paris
BEGIN:DAYLIGHT
DTSTART:20140330T030000
TZOFFSETFROM:+0100
TZOFFSETTO:+0200
TZNAME:CEST
END:DAYLIGHT
END:VTIMEZONE
END:VCALENDAR