BEGIN:VCALENDAR
VERSION:2.0
PRODID:-//wp-events-plugin.com//7.2.3.1//EN
BEGIN:VEVENT
UID:63@lincs.fr
DTSTART;TZID=Europe/Paris:20160224T140000
DTEND;TZID=Europe/Paris:20160224T150000
DTSTAMP:20170313T170920Z
URL:https://www.lincs.fr/events/logic-based-integrative-causal-discovery-w
 ith-business-applications/
SUMMARY:Logic-Based Integrative Causal Discovery with Business Applications
DESCRIPTION:&nbsp\;\n\n\n\n\nComputational Causal Discovery aims to induce
 causal models\,causal networks\, and causal relations from observational
 data withoutperforming or by performing only few interventions
 (perbutations\,manipulations) of a system. While predictive analytics
 create models thatpredict customer behavior for example\, causal analytics
 create models thatdictate how to affect customer behavior. A recent
 approach to causaldiscovery\, which we call logic-based integrative causal
 discovery\, will bepresented. This approach is more robust to statistical
 errors\, makes morerealistic and less restrictive assumptions (e.g.\,
 admits latent confoundingfactors and selection bias in the data) and
 accepts and reasons withmultiple heterogeneous datasets that are obtained
 under different samplingcriteria\, different experimental conditions
 (perbubations\, interventions)\,and measuring different quantities
 (variables). The approach significantlyextends causal discovery based on
 Bayesian Networks\, the simplest causalmodel available\, and is much more
 suitable for real business or scientificdata
 analysis.\n\n&nbsp\;\n\n\n\nProf. Ioannis Tsamardinos is Associate
 Professor at the ComputerScience Department of University of Crete and
 co-founder of Gnosis DataAnalysis IKE. Prof. Tsamardinos has over 70
 publications in internationaljournals\, conferences\, and books. He has
 participated in several national\,EU\, and US funded research projects.
 Distinctions with colleagues andstudents include the best performance in
 one of the four tasks in therecent First Causality Challenge Competition\,
 ISMB 2005 Best Poster Winner\,a Gold Medal in the Student Paper Competition
 in MEDINFO 2004\, theOutstanding Student Paper Award in AIPS 2000\, the
 NASA Group AchievementAward for participation in the Remote Agent team and
 others. He is aregular reviewer for some of the leading Machine Learning
 journals andconferences. Statistics on recognition of work include more
 than 4500citations\, and h-index of 28 (as estimated by the Publish or
 Perish tool).Prof. Tsamardinos has recently been awarded the European and
 Greek nationalgrants of excellence\, the ERC Consolidator and the ARISTEIA
 II grantsrespectively (the equivalent of the NSF Young Investigator Award).
 Prof.Tsamardinos has pioneered the integrative causal analysis and
 thelogic-based approach to causal discovery. The ERC grant in
 particularregards the development of novel integrative causal discovery
 methods andtheir application to biological mass cytometry
 data.\n\n\n\n&nbsp\;
CATEGORIES:Seminars,Youtube
LOCATION:LINCS Meeting Room 40\, 23\, avenue d'Italie\, Paris\, 75013\,
 France
GEO:48.8283983;2.3568972000000485
X-APPLE-STRUCTURED-LOCATION;VALUE=URI;X-ADDRESS=23\, avenue d'Italie\,
 Paris\, 75013\, France;X-APPLE-RADIUS=100;X-TITLE=LINCS Meeting Room
 40:geo:48.8283983,2.3568972000000485
END:VEVENT
BEGIN:VTIMEZONE
TZID:Europe/Paris
X-LIC-LOCATION:Europe/Paris
BEGIN:STANDARD
DTSTART:20151025T020000
TZOFFSETFROM:+0200
TZOFFSETTO:+0100
TZNAME:CET
END:STANDARD
END:VTIMEZONE
END:VCALENDAR