BEGIN:VCALENDAR
VERSION:2.0
PRODID:-//wp-events-plugin.com//7.2.3.1//EN
BEGIN:VEVENT
UID:602@lincs.fr
DTSTART;TZID=Europe/Paris:20210217T140000
DTEND;TZID=Europe/Paris:20210217T150000
DTSTAMP:20210222T070535Z
URL:https://www.lincs.fr/events/seminar-talk-by-professor-catherine-rosenb
 erg-waterloo-university/
SUMMARY:The impact of multi-user massive MIMO on resource allocation in 5G
 cellular networks
DESCRIPTION:One of the very important technologies for 5G is multi-user
 massive MIMO. It has the potential to deliver excellent performance if used
 well. However\, it is a very complex technology that changes the way we
 operate networks.\n&nbsp\;\nOur presentation contains three parts. In the
 first part\, we explain how resource allocation (RA) is performed in a
 multi-user massive MIMO system and present our latest results on the
 relative importance of different RA processes and assumptions. In the
 second part\, we discuss preliminary results on how sharing between
 operators can be managed in a Neutral Host setting when multi-user massive
 MIMO is used. Finally\, in the third part\, we briefly discuss how
 multi-user massive MIMO enables 5G Fixed Wireless Access that can be used
 to bridge the digital divide in rural areas.\n&nbsp\;\nThe work was done in
 collaboration with Prof. P. Mitran\, Y. Zhang\, A. Hussein\, and A.
 Lappalainen. It was sponsored by NSERC\, Cisco and
 Rogers.\n&nbsp\;\nBIO\n&nbsp\;\nCatherine Rosenberg is a Professor in
 Electrical and Computer Engineering at the University of Waterloo since
 2004. Since June 2010\, she holds the Canada Research Chair in the Future
 Internet. She was elected an IEEE Fellow for contributions to resource
 management in wireless and satellite networks on 2011 and was elected a
 Fellow of the Canadian Academy of Engineering in 2013. In April 2018\, she
 became the Cisco Research Chair in 5G Systems.\n\nHere\, Prof. Rosenberg
 webpage for further infos about her academic and research path:
 https://uwaterloo.ca/scholar/cath\n\nZoom link to attend the seminar talk:
 https://telecom-paris.zoom.us/j/94270583366?pwd=cGVqdGg4WEZZSldscGpvTTMvbEJ
 Odz09\n\nID de réunion : 942 7058 3366\nCode secret : 821734
CATEGORIES:Seminars,Youtube
LOCATION:Zoom + LINCS\, 23 avenue d'Italie\, Paris\, 75013\, France
X-APPLE-STRUCTURED-LOCATION;VALUE=URI;X-ADDRESS=23 avenue d'Italie\,
 Paris\, 75013\, France;X-APPLE-RADIUS=100;X-TITLE=Zoom + LINCS:geo:0,0
END:VEVENT
BEGIN:VTIMEZONE
TZID:Europe/Paris
X-LIC-LOCATION:Europe/Paris
BEGIN:STANDARD
DTSTART:20201025T020000
TZOFFSETFROM:+0200
TZOFFSETTO:+0100
TZNAME:CET
END:STANDARD
END:VTIMEZONE
END:VCALENDAR