BEGIN:VCALENDAR
VERSION:2.0
PRODID:-//wp-events-plugin.com//7.2.3.1//EN
BEGIN:VEVENT
UID:162@lincs.fr
DTSTART;TZID=Europe/Paris:20170315T113000
DTEND;TZID=Europe/Paris:20170315T114500
DTSTAMP:20170316T134747Z
URL:https://www.lincs.fr/events/researchoverflow/
SUMMARY:ResearchOverflow
DESCRIPTION:Research is broken. We can rebuild it. We have the technology.
CATEGORIES:Previews,Youtube
LOCATION:Meudon\, Best Western Meudon\, Meudon\, France
GEO:48.7954497;2.2192007999999532
X-APPLE-STRUCTURED-LOCATION;VALUE=URI;X-ADDRESS=Best Western Meudon\,
 Meudon\,
 France;X-APPLE-RADIUS=100;X-TITLE=Meudon:geo:48.7954497,2.2192007999999532
END:VEVENT
BEGIN:VTIMEZONE
TZID:Europe/Paris
X-LIC-LOCATION:Europe/Paris
BEGIN:STANDARD
DTSTART:20161030T020000
TZOFFSETFROM:+0200
TZOFFSETTO:+0100
TZNAME:CET
END:STANDARD
END:VTIMEZONE
END:VCALENDAR