BEGIN:VCALENDAR
VERSION:2.0
PRODID:-//wp-events-plugin.com//7.2.3.1//EN
BEGIN:VEVENT
UID:937@lincs.fr
DTSTART;TZID=Europe/Paris:20260528T140000
DTEND;TZID=Europe/Paris:20260528T150000
DTSTAMP:20260331T144204Z
URL:https://www.lincs.fr/events/real-time-cloud-between-vision-and-reality
 /
SUMMARY:Real-Time Cloud: Between Vision and Reality
DESCRIPTION:Real-time cloud envisions the migration of time-critical
 applications to shared cloud infrastructures in order to leverage
 elasticity\, scalability\, and operational flexibility. However\, this
 vision conflicts with core cloud design principles: deep resource sharing\,
 multi-tenancy\, and increasingly complex virtualization stacks.\n\nIn this
 talk\, we analyze the main threats to predictability and security in
 multi-tenant cloud systems that hinder the deployment of time-sinsitive
 applications\, with particular attention to shared memory subsystems and
 virtualization boundaries.\nWe then focus on two representative challenges:
 memory bandwidth isolation and hypervisor attack surfaces\, examining
 recent research efforts as well as their practical limitations.\n\nWe
 conclude by questioning whether real-time cloud is a technically grounded
 objective\, or a business-driven narrative that underestimates the
 structural constraints of modern cloud architectures.
CATEGORIES:Seminars
LOCATION:Amphi 3\, 19 Place Marguerite Perey\, Palaiseau\, France
X-APPLE-STRUCTURED-LOCATION;VALUE=URI;X-ADDRESS=19 Place Marguerite Perey\,
 Palaiseau\, France;X-APPLE-RADIUS=100;X-TITLE=Amphi 3:geo:0,0
END:VEVENT
BEGIN:VTIMEZONE
TZID:Europe/Paris
X-LIC-LOCATION:Europe/Paris
BEGIN:DAYLIGHT
DTSTART:20260329T030000
TZOFFSETFROM:+0100
TZOFFSETTO:+0200
TZNAME:CEST
END:DAYLIGHT
END:VTIMEZONE
END:VCALENDAR