BEGIN:VCALENDAR
VERSION:2.0
PRODID:-//wp-events-plugin.com//7.2.3.1//EN
BEGIN:VEVENT
UID:938@lincs.fr
DTSTART;TZID=Europe/Paris:20260128T140000
DTEND;TZID=Europe/Paris:20260128T150000
DTSTAMP:20260129T094015Z
URL:https://www.lincs.fr/events/queuing-theory-for-throttled-quantum-link-
 protocol-modeling/
SUMMARY:Queuing Theory for Throttled Quantum Link Protocol Modeling
DESCRIPTION:To facilitate the control and management of the future quantum
 networks\, one needs a quantum link protocol (QLP) that ensures a constant
 and reliable rate of entangled qubit storage in the adjacent nodes. In this
 talk\, we propose a throttled QLP. We use queuing modeling with Markov
 chains to evaluate its performances. We show the good performances of our
 throttled QLP proposal\, with stabilized rate of entanglement distribution
 and low probability of delivery failure.
CATEGORIES:Seminars,Youtube
LOCATION:Amphi 6\, 19 Place Marguerite Perey\, Palaiseau\, France
X-APPLE-STRUCTURED-LOCATION;VALUE=URI;X-ADDRESS=19 Place Marguerite Perey\,
 Palaiseau\, France;X-APPLE-RADIUS=100;X-TITLE=Amphi 6:geo:0,0
END:VEVENT
BEGIN:VTIMEZONE
TZID:Europe/Paris
X-LIC-LOCATION:Europe/Paris
BEGIN:STANDARD
DTSTART:20251026T020000
TZOFFSETFROM:+0200
TZOFFSETTO:+0100
TZNAME:CET
END:STANDARD
END:VTIMEZONE
END:VCALENDAR