BEGIN:VCALENDAR
VERSION:2.0
PRODID:-//wp-events-plugin.com//7.2.3.1//EN
BEGIN:VEVENT
UID:288@lincs.fr
DTSTART;TZID=Europe/Paris:20140319T140000
DTEND;TZID=Europe/Paris:20140319T143000
DTSTAMP:20211125T121831Z
URL:https://www.lincs.fr/events/quantun-information/
SUMMARY:Quantun Information
DESCRIPTION:Information is something encoded in physical systems's
 properties. Hence the study of information and computation is linked to the
 underlying physical processes. Quantum Information is the study of
 information encoded in the state of quantum system. Quantum phenomena such
 as the superposition principle and entanglement give rise to a other
 approach and opportunities in all the sub-fields of Information Theory. The
 goal of this seminar\, by giving some basic concepts of quantum
 information\, is to give a very naive approach which will permit to the
 audiance Â to have an overview of the Quantum Information field.
CATEGORIES:Seminars
LOCATION:LINCS Meeting Room 40\, 23\, avenue d'Italie\, Paris\, 75013\,
 France
GEO:48.8283983;2.3568972000000485
X-APPLE-STRUCTURED-LOCATION;VALUE=URI;X-ADDRESS=23\, avenue d'Italie\,
 Paris\, 75013\, France;X-APPLE-RADIUS=100;X-TITLE=LINCS Meeting Room
 40:geo:48.8283983,2.3568972000000485
END:VEVENT
BEGIN:VTIMEZONE
TZID:Europe/Paris
X-LIC-LOCATION:Europe/Paris
BEGIN:STANDARD
DTSTART:20131027T020000
TZOFFSETFROM:+0200
TZOFFSETTO:+0100
TZNAME:CET
END:STANDARD
END:VTIMEZONE
END:VCALENDAR