BEGIN:VCALENDAR
VERSION:2.0
PRODID:-//wp-events-plugin.com//7.2.3.1//EN
BEGIN:VEVENT
UID:588@lincs.fr
DTSTART;TZID=Europe/Paris:20201202T104500
DTEND;TZID=Europe/Paris:20201202T121500
DTSTAMP:20201209T113815Z
URL:https://www.lincs.fr/events/pyinstaller-vis-js-network/
SUMMARY:Pyinstaller / Vis.js Network
DESCRIPTION:Two independent tools will be presented for this
 session.\n\nPyinstaller is a tool that converts Python code in standalone
 executable. The goal is not to speed up things\, but to have portable code
 to run on a computer without installing additional software.\n\nVis.js
 network is the javascript library that was used to display the Lincs graph
 (https://www.lincs.fr/research/lincs-graph/). It's a relatively simple way
 to display a json graph.\n\n\n\n
CATEGORIES:Tools, Tips and Tricks,Working Group,Youtube
END:VEVENT
BEGIN:VTIMEZONE
TZID:Europe/Paris
X-LIC-LOCATION:Europe/Paris
BEGIN:STANDARD
DTSTART:20201025T020000
TZOFFSETFROM:+0200
TZOFFSETTO:+0100
TZNAME:CET
END:STANDARD
END:VTIMEZONE
END:VCALENDAR