BEGIN:VCALENDAR
VERSION:2.0
PRODID:-//wp-events-plugin.com//7.2.3.1//EN
BEGIN:VEVENT
UID:395@lincs.fr
DTSTART;TZID=Europe/Paris:20180829T140000
DTEND;TZID=Europe/Paris:20180829T150000
DTSTAMP:20180822T105652Z
URL:https://www.lincs.fr/events/protecting-privacy-in-dynamic-decision-mak
 ing/
SUMMARY:Protecting privacy in dynamic decision making
DESCRIPTION:Motivated by the increasing ubiquity of large-scale
 data\ncollection infrastructures\, we investigate how to protect
 sensitive\ninformation in dynamic resource allocation problems. The central
 question\nis: how should one make resource allocation decisions such that
 these\ndecisions\, if observed and analyzed by an adversary\, do not
 inadvertently\nreveal private information of the decision maker? In this
 talk we will\nexamine two well known decision problems\, path planning and
 active learning\,\nand in each case provide tight information-theoretic
 upper and lower bounds\non the amount of additional resources required for
 a given level of privacy.\n\n&nbsp\;\n\nBio: Kuang Xu was born in Suzhou\,
 China. He received the B.S. degree in\nElectrical Engineering (2009) from
 the University of Illinois at\nUrbana-Champaign\, Urbana\, Illinois\, USA\,
 and the Ph.D. degree in Electrical\nEngineering and Computer Science (2014)
 from the Massachusetts Institute of\nTechnology\, Cambridge\,
 Massachusetts\, USA. He was a postdoctoral fellow at\nthe Microsoft
 Research-Inria Joint Center in Paris\, France (2014-2015)\,\nhosted by
 Laurent Massoulié. His research interests lie in the fields of\napplied
 probability theory\, optimization\, and operations research\, seeking\nto
 understand fundamental properties and design principles of
 large-scale\nstochastic systems\, with applications in queueing networks\,
 healthcare\,\nprivacy and statistical learning theory. He has received
 several awards\nincluding a First Place in INFORMS George E. Nicholson
 Student Paper\nCompetition\, a Best Paper Award\, as well as a Kenneth C.
 Sevcik Outstanding\nStudent Paper Award from ACM SIGMETRICS.
CATEGORIES:Seminars
LOCATION:LINCS Seminars room\, 23\, avenue d'Italie\, Paris\, 75013\,
 France
GEO:48.828400;2.356897
X-APPLE-STRUCTURED-LOCATION;VALUE=URI;X-ADDRESS=23\, avenue d'Italie\,
 Paris\, 75013\, France;X-APPLE-RADIUS=100;X-TITLE=LINCS Seminars
 room:geo:48.828400,2.356897
END:VEVENT
BEGIN:VTIMEZONE
TZID:Europe/Paris
X-LIC-LOCATION:Europe/Paris
BEGIN:DAYLIGHT
DTSTART:20180325T030000
TZOFFSETFROM:+0100
TZOFFSETTO:+0200
TZNAME:CEST
END:DAYLIGHT
END:VTIMEZONE
END:VCALENDAR