BEGIN:VCALENDAR
VERSION:2.0
PRODID:-//wp-events-plugin.com//7.2.3.1//EN
BEGIN:VEVENT
UID:125@lincs.fr
DTSTART;TZID=Europe/Paris:20141015T140000
DTEND;TZID=Europe/Paris:20141015T150000
DTSTAMP:20170313T171220Z
URL:https://www.lincs.fr/events/caesar-content-router-high-speed-forwardin
 g-content-names/
SUMMARY:Caesar: a content router for high-speed forwarding on content
 names.
DESCRIPTION:Today\, Internet users are mostly interested to consume
 content\, information and services independently from the servers where
 these are located.Information Centric Networking (ICN) is a recent
 networking vein which proposes to enrich the network layer with name-based
 forwarding\, a novel communication primitive centered around content
 identifiers rather than their location.Despite several name-based
 forwarding strategies have been proposed\, few have attempted to build a
 content router. Our work fills such gap by designing and prototyping
 Caesar\, a content router for high-speed forwarding on content names.Caesar
 has several innovative features: (i) a longest prefix matching algorithm
 that efficiently supports\ncontent names\, (ii) an incremental design which
 allows for easy integration with existing network equipments\, (iii)
 support for packet processing offload to graphics processing units (GPUs)\,
 and (iv) a forwarding engine distributed across multiple line cards. We
 build Caesar as a small scale router\, and show that it sustains up to 10
 Gbps links and over 10 million content prefixes.In addition\, GPU offload
 further speeds up the forwarding rate by an order of magnitude\, while
 distributed forwarding augments the amount of content prefixes served
 linearly with the number of line cards\, with a small penalty in terms of
 packet processing latency.The full design of a content router also includes
 a Pending Interest Table and a Content Store. The former is a
 data-structure used to store pending requests not served yet\, while the
 latter is a packet-level cache used to temporary store forwarded data to
 serve future requests.We will discuss current and future work on the
 integration of Pending Interest Table and Content Store in our content
 router.
CATEGORIES:Seminars,Youtube
LOCATION:LINCS Meeting Room 40\, 23\, avenue d'Italie\, Paris\, 75013\,
 France
GEO:48.8283983;2.3568972000000485
X-APPLE-STRUCTURED-LOCATION;VALUE=URI;X-ADDRESS=23\, avenue d'Italie\,
 Paris\, 75013\, France;X-APPLE-RADIUS=100;X-TITLE=LINCS Meeting Room
 40:geo:48.8283983,2.3568972000000485
END:VEVENT
BEGIN:VTIMEZONE
TZID:Europe/Paris
X-LIC-LOCATION:Europe/Paris
BEGIN:DAYLIGHT
DTSTART:20140330T030000
TZOFFSETFROM:+0100
TZOFFSETTO:+0200
TZNAME:CEST
END:DAYLIGHT
END:VTIMEZONE
END:VCALENDAR