BEGIN:VCALENDAR
VERSION:2.0
PRODID:-//wp-events-plugin.com//7.2.3.1//EN
BEGIN:VEVENT
UID:100@lincs.fr
DTSTART;TZID=Europe/Paris:20150408T140000
DTEND;TZID=Europe/Paris:20150408T150000
DTSTAMP:20170313T171047Z
URL:https://www.lincs.fr/events/basic-regenerating-codes-for-distributed-s
 torage-systems/
SUMMARY:BASIC regenerating codes for distributed storage systems
DESCRIPTION:Reliability in disk arrays is provisioned by storing the data
 with redundancy. For example\, in RAID-6\, we protect the data from being
 lost by introducing parity-check disks\, so that any failure of two disks
 can be restored. In a large-scale distributed storage system\, disk
 failures and repairs are common day-to-day event\, and incur excessive
 amount of traffic for the recovery of failed disks. A class of codes\,
 called regenerating codes\, was introduced by Dimakis et al. for the
 purpose of reducing the required repair traffic. Like Reed-Solomon codes\,
 most of the existing regenerating codes rely on the arithmetic of finite
 fields. The computational complexity of encoding and decoding may render
 the system impracticable if the size of the finite field is large. In this
 talk\, we discuss a construction of regenerating codes called Binary
 Addition and Shift Implementable Convolutional (BASIC) codes\, in which
 finite field additions and multiplications are replaced by bit-wise
 exclusive OR and bit-wise shifting. The advantage of regenerating code is
 thereby attained with lower computational cost. This is a joint work with
 Minghua Chen\, Hanxu Hou and Hui Li.
CATEGORIES:Seminars,Youtube
LOCATION:LINCS Meeting Room 40\, 23\, avenue d'Italie\, Paris\, 75013\,
 France
GEO:48.8283983;2.3568972000000485
X-APPLE-STRUCTURED-LOCATION;VALUE=URI;X-ADDRESS=23\, avenue d'Italie\,
 Paris\, 75013\, France;X-APPLE-RADIUS=100;X-TITLE=LINCS Meeting Room
 40:geo:48.8283983,2.3568972000000485
END:VEVENT
BEGIN:VTIMEZONE
TZID:Europe/Paris
X-LIC-LOCATION:Europe/Paris
BEGIN:DAYLIGHT
DTSTART:20150329T030000
TZOFFSETFROM:+0100
TZOFFSETTO:+0200
TZNAME:CEST
END:DAYLIGHT
END:VTIMEZONE
END:VCALENDAR