BEGIN:VCALENDAR
VERSION:2.0
PRODID:-//wp-events-plugin.com//7.2.3.1//EN
BEGIN:VEVENT
UID:714@lincs.fr
DTSTART;TZID=Europe/Paris:20220928T150000
DTEND;TZID=Europe/Paris:20220928T160000
DTSTAMP:20221007T133427Z
URL:https://www.lincs.fr/events/pcant-programable-capture-and-analysis-of-
 network-traffic/
SUMMARY:PCANT — Programable Capture and Analysis of Network Traffic
DESCRIPTION:PCANT is a solution for streamlining the deployment of
 arbitrary online traffic analysis methods inside networks. It allows
 network administrators to dynamically instantiate new monitoring techniques
 on their network without the need for any manual setup\, and data
 scientists to test new algorithms on a network without requiring any skills
 pertaining to network equipment administration and configuration.
CATEGORIES:Seminars,Youtube
LOCATION:Salle 4A101 - Palaiseau\, 19 place Marguerite Perey\, Palaiseau\,
 France
X-APPLE-STRUCTURED-LOCATION;VALUE=URI;X-ADDRESS=19 place Marguerite Perey\,
 Palaiseau\, France;X-APPLE-RADIUS=100;X-TITLE=Salle 4A101 -
 Palaiseau:geo:0,0
END:VEVENT
BEGIN:VTIMEZONE
TZID:Europe/Paris
X-LIC-LOCATION:Europe/Paris
BEGIN:DAYLIGHT
DTSTART:20220327T030000
TZOFFSETFROM:+0100
TZOFFSETTO:+0200
TZNAME:CEST
END:DAYLIGHT
END:VTIMEZONE
END:VCALENDAR