BEGIN:VCALENDAR
VERSION:2.0
PRODID:-//wp-events-plugin.com//7.2.3.1//EN
BEGIN:VEVENT
UID:78@lincs.fr
DTSTART;TZID=Europe/Paris:20150923T140000
DTEND;TZID=Europe/Paris:20150923T150000
DTSTAMP:20170313T170941Z
URL:https://www.lincs.fr/events/big-data-integration/
SUMMARY:Big Data Integration
DESCRIPTION:\n\n\n\n\n\n\nAbstract:\nThe Big Data era is upon us: data is
 being generated\, collected and analyzed at an unprecedented scale\, and
 data-driven decision making is sweeping through all aspects of society.
 Since the value of data explodes when it can be linked and fused with other
 data\, addressing the big data integration (BDI) challenge is critical to
 realizing the promise of Big Data. BDI differs from traditional data
 integration in many dimensions: (i) the number of data sources\, even for a
 single domain\, has grown to be in the tens of thousands\, (ii) many of the
 data sources are very dynamic\, as a huge amount of newly collected data
 are continuously made available\, (iii) the data sources are extremely
 heterogeneous in their structure\, with considerable variety even for
 substantially similar entities\, and (iv) the data sources are of widely
 differing qualities\, with significant differences in the coverage\,
 accuracy and timeliness of data provided. This talk explores the progress
 that has been made by the data integration community in addressing these
 novel challenges faced by big data integration\, and identifies a range of
 open problems for the community\n\n\nBiography:\nDivesh Srivastava is the
 head of Database Research at AT&amp\;T Labs-Research. He is an ACM fellow\,
 on the board of trustees of the VLDB Endowment\, the managing editor of the
 Proceedings of the VLDB Endowment (PVLDB) and an associate editor of the
 ACM Transactions on Database Systems (TODS). His research interests and
 publications span a variety of topics in data management.\n\n\n
CATEGORIES:Seminars
LOCATION:LINCS Meeting Room 40\, 23\, avenue d'Italie\, Paris\, 75013\,
 France
GEO:48.8283983;2.3568972000000485
X-APPLE-STRUCTURED-LOCATION;VALUE=URI;X-ADDRESS=23\, avenue d'Italie\,
 Paris\, 75013\, France;X-APPLE-RADIUS=100;X-TITLE=LINCS Meeting Room
 40:geo:48.8283983,2.3568972000000485
END:VEVENT
BEGIN:VTIMEZONE
TZID:Europe/Paris
X-LIC-LOCATION:Europe/Paris
BEGIN:DAYLIGHT
DTSTART:20150329T030000
TZOFFSETFROM:+0100
TZOFFSETTO:+0200
TZNAME:CEST
END:DAYLIGHT
END:VTIMEZONE
END:VCALENDAR