BEGIN:VCALENDAR
VERSION:2.0
PRODID:-//wp-events-plugin.com//7.2.3.1//EN
BEGIN:VEVENT
UID:690@lincs.fr
DTSTART;TZID=Europe/Paris:20220209T110000
DTEND;TZID=Europe/Paris:20220209T120000
DTSTAMP:20220217T134455Z
URL:https://www.lincs.fr/events/object-oriented-programming-in-python/
SUMMARY:Object-Oriented Programming in Python
DESCRIPTION:We will deep dive into the OOP paradigm and see how it’s
 implemented in Python. This session will be beginner-friendly and aims to
 give explanations and practical examples on how to use OOP in a regular
 basis.\n\nSlides\nProgress sheet:
 https://docs.google.com/spreadsheets/d/1lBwaAsTdWx8Pl8WSZWLbaOb89MqBA7qmAE0
 qxsZ-_og/edit?usp=sharing\n\n
CATEGORIES:Tools, Tips and Tricks,Working Group,Youtube
LOCATION:Paris-Rennes Room (EIT Digital)\, 23 avenue d'Italie\, 75013
 Paris\, France
X-APPLE-STRUCTURED-LOCATION;VALUE=URI;X-ADDRESS=23 avenue d'Italie\, 75013
 Paris\, France;X-APPLE-RADIUS=100;X-TITLE=Paris-Rennes Room (EIT
 Digital):geo:0,0
END:VEVENT
BEGIN:VTIMEZONE
TZID:Europe/Paris
X-LIC-LOCATION:Europe/Paris
BEGIN:STANDARD
DTSTART:20211031T020000
TZOFFSETFROM:+0200
TZOFFSETTO:+0100
TZNAME:CET
END:STANDARD
END:VTIMEZONE
END:VCALENDAR