BEGIN:VCALENDAR
VERSION:2.0
PRODID:-//wp-events-plugin.com//7.2.3.1//EN
BEGIN:VEVENT
UID:55@lincs.fr
DTSTART;TZID=Europe/Paris:20160325T110000
DTEND;TZID=Europe/Paris:20160325T120000
DTSTAMP:20170313T170917Z
URL:https://www.lincs.fr/events/power-control-for-non-orthogonal-multiple-
 access-in-5g-cellular-systems/
SUMMARY:Power Control for Non-Orthogonal Multiple Access in 5G Cellular
 Systems
DESCRIPTION:\n\n\nAbstract:\nNon-orthogonal multiple access (NOMA) is a
 promising candidate for wireless access in 5G cellular systems\, and has
 recently received considerable attentions from both academia and industry.
 In a NOMA system\, multiple users share the same carrier frequency at the
 same time\, and their messages are decoded via successive interference
 cancellation (SIC). While the idea of SIC was proposed a long time ago\, it
 is now regarded as a practical solution to wireless networks. For SIC to
 work properly\, the signal-to-interference ratio of each user needs to be
 high enough for successful decoding and subsequent cancellation. To meet
 such a requirement\, transmitter power control becomes indispensable. This
 talk focuses on power control for inter-cell interference management in
 NOMA systems. The classical power control results based on Perron-Frobenius
 theory of non-negative matrices will be reviewed\, and how they can be
 applied to multi-cell NOMA systems will be presented. For practical
 application to 5G systems\, it is desirable to have distributed algorithms
 for power control\, which will also be discussed.\n\n\nBiography:\nDr. Chi
 Wan Sung is an Associate Professor in the Department of Electronic
 Engineering at City University of Hong Kong. He received the BEng\, MPhil\,
 and PhD degrees in information engineering from the Chinese University of
 Hong Kong in 1993\, 1995\, and 1998\, respectively. He has served as editor
 for the ETRI journal and for the Transactions on Emerging
 Telecommunications Technologies. His research interests include power
 control and resource allocation\, cooperative communications\, network
 coding\, and distributed storage systems.\n\n\n\n&nbsp\;
CATEGORIES:Seminars
LOCATION:LINCS Meeting Room 40\, 23\, avenue d'Italie\, Paris\, 75013\,
 France
GEO:48.8283983;2.3568972000000485
X-APPLE-STRUCTURED-LOCATION;VALUE=URI;X-ADDRESS=23\, avenue d'Italie\,
 Paris\, 75013\, France;X-APPLE-RADIUS=100;X-TITLE=LINCS Meeting Room
 40:geo:48.8283983,2.3568972000000485
END:VEVENT
BEGIN:VTIMEZONE
TZID:Europe/Paris
X-LIC-LOCATION:Europe/Paris
BEGIN:STANDARD
DTSTART:20151025T020000
TZOFFSETFROM:+0200
TZOFFSETTO:+0100
TZNAME:CET
END:STANDARD
END:VTIMEZONE
END:VCALENDAR