BEGIN:VCALENDAR
VERSION:2.0
PRODID:-//wp-events-plugin.com//7.2.3.1//EN
BEGIN:VEVENT
UID:487@lincs.fr
DTSTART;TZID=Europe/Paris:20190612T164500
DTEND;TZID=Europe/Paris:20190612T170000
DTSTAMP:20190806T131928Z
URL:https://www.lincs.fr/events/non-cooperative-games-and-bft-based-blockc
 hains/
SUMMARY:Non cooperative games and BFT-based blockchains
DESCRIPTION:\nNon cooperative games and BFT-based blockchains \, Yackolley
 Amoussou-Guenou \, Sorbonne-Université  CEA \, BlockChainDay
 \n\n\n\nSlides Yackolley Amoussou-Guenou - Non cooperative games and
 BFT-based blockchainsDownload\n
CATEGORIES:BlockChain Day,Other Worshops,Workshop,Youtube
LOCATION:Paris-Rennes-Nice Room (EIT Digital)\, 23\, avenue d'Italie\,
 Paris\, 75013\, France
X-APPLE-STRUCTURED-LOCATION;VALUE=URI;X-ADDRESS=23\, avenue d'Italie\,
 Paris\, 75013\, France;X-APPLE-RADIUS=100;X-TITLE=Paris-Rennes-Nice Room
 (EIT Digital):geo:0,0
END:VEVENT
BEGIN:VTIMEZONE
TZID:Europe/Paris
X-LIC-LOCATION:Europe/Paris
BEGIN:DAYLIGHT
DTSTART:20190331T030000
TZOFFSETFROM:+0100
TZOFFSETTO:+0200
TZNAME:CEST
END:DAYLIGHT
END:VTIMEZONE
END:VCALENDAR