BEGIN:VCALENDAR
VERSION:2.0
PRODID:-//wp-events-plugin.com//7.2.3.1//EN
BEGIN:VEVENT
UID:935@lincs.fr
DTSTART;TZID=Europe/Paris:20260219T130000
DTEND;TZID=Europe/Paris:20260219T140000
DTSTAMP:20260225T134744Z
URL:https://www.lincs.fr/events/network-calculus-guaranteed-performance-an
 alysis-in-networks/
SUMMARY:Network Calculus: Guaranteed performance analysis in networks
DESCRIPTION:Network calculus is a theory developed to compute worst-case
 performance guarantees in networks. When analyzing complex networks (in
 particular multi-class)\, the analysis requires two-step approach:
 decomposing the network into several single-class networks\, and analyzing
 these single-class network. In this talk\, I will show that some scheduling
 policies (such as DRR) exhibit some inter-dependency structures and require
 that these two steps are intricate. I will present an iterative scheme that
 improves both the performance bounds and stability region compared to the
 state of the art.
CATEGORIES:Seminars,Youtube
LOCATION:Amphi 3\, 19 Place Marguerite Perey\, Palaiseau\, France
X-APPLE-STRUCTURED-LOCATION;VALUE=URI;X-ADDRESS=19 Place Marguerite Perey\,
 Palaiseau\, France;X-APPLE-RADIUS=100;X-TITLE=Amphi 3:geo:0,0
END:VEVENT
BEGIN:VTIMEZONE
TZID:Europe/Paris
X-LIC-LOCATION:Europe/Paris
BEGIN:STANDARD
DTSTART:20251026T020000
TZOFFSETFROM:+0200
TZOFFSETTO:+0100
TZNAME:CET
END:STANDARD
END:VTIMEZONE
END:VCALENDAR