BEGIN:VCALENDAR
VERSION:2.0
PRODID:-//wp-events-plugin.com//7.2.3.1//EN
BEGIN:VEVENT
UID:673@lincs.fr
DTSTART;TZID=Europe/Paris:20211208T150000
DTEND;TZID=Europe/Paris:20211208T160000
DTSTAMP:20230203T100902Z
URL:https://www.lincs.fr/events/meta-distributions-and-joint-geometric-mod
 eling-of-cellular-networks/
SUMMARY:Meta Distributions and Joint Geometric Modeling of Cellular
 Networks
DESCRIPTION:In cellular networks\, there is a growing emphasis on the user
 experienced performance and ultra-reliable low-latency communications.
 This necessitates an analysis of the performance achieved by most users
 most of the time\, rather than a subset of users with peak
 performance.  To this end\, the meta distribution is introduced as an
 essential analytical tool in the framework of stochastic geometry. In the
 first part of the talk\, we discuss some analytical results about the meta
 distribution in cellular networks. Exploiting the independence between
 the small-scale fading and the large-scale path loss\, we derive the
 separability of the meta distribution for arbitrary fading in Poisson
 networks. We further look at the impact of fading statistics\, noise\, and
 the network geometry.In the second part\, we propose a joint
 spatial-propagation model for coverage-oriented cellular networks. This
 model ascribes the irregular deployment of base stations to an
 intelligent design by the operators and reverse-engineers the underlying
 cell-dependent shadowing from the shape and size of the Voronoi cells.
CATEGORIES:Seminars
LOCATION:LINCS + Zoom\, 23 avenue d'Italie\, Paris\, 75013\, France
X-APPLE-STRUCTURED-LOCATION;VALUE=URI;X-ADDRESS=23 avenue d'Italie\,
 Paris\, 75013\, France;X-APPLE-RADIUS=100;X-TITLE=LINCS + Zoom:geo:0,0
END:VEVENT
BEGIN:VTIMEZONE
TZID:Europe/Paris
X-LIC-LOCATION:Europe/Paris
BEGIN:STANDARD
DTSTART:20211031T020000
TZOFFSETFROM:+0200
TZOFFSETTO:+0100
TZNAME:CET
END:STANDARD
END:VTIMEZONE
END:VCALENDAR