BEGIN:VCALENDAR
VERSION:2.0
PRODID:-//wp-events-plugin.com//7.2.3.1//EN
BEGIN:VEVENT
UID:99@lincs.fr
DTSTART;TZID=Europe/Paris:20150415T140000
DTEND;TZID=Europe/Paris:20150415T150000
DTSTAMP:20170313T171046Z
URL:https://www.lincs.fr/events/a-flow-level-performance-model-for-mobile-
 networks-carrying-adaptive-streaming-traffic/
SUMMARY:A Flow-Level Performance Model for Mobile Networks Carrying
 Adaptive Streaming Traffic
DESCRIPTION:As the adaptive streaming technology becomes the mainstream
 solution for online video service and 4G broadband service becomes very
 accessible\, for mobile service providers\, having a performance model
 integrating adaptive streaming and elastic traffic becomes a necessity. We
 aim to build an adaptive streaming model by using flow-dynamics and to
 examine the streaming performance. Our model takes both the codec
 limitation and integration of elastic data into account\, which assist the
 operators to understand the trade-offs among different metrics such as
 deficit rate\, mean codec rate and mean elastic throughput when different
 configurations and prioritization factors are chosen. The simulation
 results obtained with the real statistics of Orange mobile network
 demonstrated the maximum traffic intensity under certain QoS constraints
 and its corresponding optimal prioritization factor.
CATEGORIES:Seminars,Youtube
LOCATION:LINCS Meeting Room 40\, 23\, avenue d'Italie\, Paris\, 75013\,
 France
GEO:48.8283983;2.3568972000000485
X-APPLE-STRUCTURED-LOCATION;VALUE=URI;X-ADDRESS=23\, avenue d'Italie\,
 Paris\, 75013\, France;X-APPLE-RADIUS=100;X-TITLE=LINCS Meeting Room
 40:geo:48.8283983,2.3568972000000485
END:VEVENT
BEGIN:VTIMEZONE
TZID:Europe/Paris
X-LIC-LOCATION:Europe/Paris
BEGIN:DAYLIGHT
DTSTART:20150329T030000
TZOFFSETFROM:+0100
TZOFFSETTO:+0200
TZNAME:CEST
END:DAYLIGHT
END:VTIMEZONE
END:VCALENDAR