BEGIN:VCALENDAR
VERSION:2.0
PRODID:-//wp-events-plugin.com//7.2.3.1//EN
BEGIN:VEVENT
UID:697@lincs.fr
DTSTART;TZID=Europe/Paris:20220504T150000
DTEND;TZID=Europe/Paris:20220504T161500
DTSTAMP:20220513T072030Z
URL:https://www.lincs.fr/events/lincs-young-researchers-elevator-pitch-pre
 sentation-n2-2022/
SUMMARY:LINCS young researchers "elevator pitch" presentation n°2/2022
DESCRIPTION:&nbsp\;\n\n    
 \n\n\nDavydov\nMichel&nbsp\;\nInria\nPhD\nDynamiques markoviennes à base
 de processus ponctuels et leurs
 applications\n\n\nKhaniha\nSayeh&nbsp\;\nInria\nPhD\n&nbsp\;\n\n\nPopineau\
 nPierre&nbsp\;\nInria\nPhD\nStudy of the dynamics of spatial point
 processes\n\n\nRaynal\nMaxime\nNokia Bell Labs\nPhD\nAlarm prediction in
 communication networks via space-time pattern matching and explainable
 machine learning\n\n\nRoy
 Choudhury\nBharath&nbsp\;\nInria\nPhD\n&nbsp\;\n\n\nSun\nGuodong\nInria\nPh
 D\nNetwork Theory\n\n\n\n&nbsp\;\n
CATEGORIES:Seminars,Youtube
LOCATION:LINCS + Zoom\, 23 avenue d'Italie\, Paris\, 75013\, France
X-APPLE-STRUCTURED-LOCATION;VALUE=URI;X-ADDRESS=23 avenue d'Italie\,
 Paris\, 75013\, France;X-APPLE-RADIUS=100;X-TITLE=LINCS + Zoom:geo:0,0
END:VEVENT
BEGIN:VTIMEZONE
TZID:Europe/Paris
X-LIC-LOCATION:Europe/Paris
BEGIN:DAYLIGHT
DTSTART:20220327T030000
TZOFFSETFROM:+0100
TZOFFSETTO:+0200
TZNAME:CEST
END:DAYLIGHT
END:VTIMEZONE
END:VCALENDAR