BEGIN:VCALENDAR
VERSION:2.0
PRODID:-//wp-events-plugin.com//7.2.3.1//EN
BEGIN:VEVENT
UID:837@lincs.fr
DTSTART;TZID=Europe/Paris:20240627T090000
DTEND;TZID=Europe/Paris:20240628T180000
DTSTAMP:20260204T162441Z
URL:https://www.lincs.fr/events/lincs-annual-workshop-with-its-scientific-
 committee-2024/
SUMMARY:LINCS Annual Workshop with its Scientific Committee 2024
DESCRIPTION:https://www.lincs.fr/2024-lincs-annual-workshop-with-its-scient
 ific-committee/\n\nThe event is reserved to the LINCS community\n\nPlease
 find the program by clicking =&gt\; Workshop LINCS - agenda 2024
CATEGORIES:LINCS Workshop
LOCATION:Amphi Rose Dieng\, 19 place Marguerite Perey\, Palaiseau\, France
X-APPLE-STRUCTURED-LOCATION;VALUE=URI;X-ADDRESS=19 place Marguerite Perey\,
 Palaiseau\, France;X-APPLE-RADIUS=100;X-TITLE=Amphi Rose Dieng:geo:0,0
END:VEVENT
BEGIN:VTIMEZONE
TZID:Europe/Paris
X-LIC-LOCATION:Europe/Paris
BEGIN:DAYLIGHT
DTSTART:20240331T030000
TZOFFSETFROM:+0100
TZOFFSETTO:+0200
TZNAME:CEST
END:DAYLIGHT
END:VTIMEZONE
END:VCALENDAR