BEGIN:VCALENDAR
VERSION:2.0
PRODID:-//wp-events-plugin.com//7.2.3.1//EN
BEGIN:VEVENT
UID:79@lincs.fr
DTSTART;TZID=Europe/Paris:20150909T140000
DTEND;TZID=Europe/Paris:20150909T150000
DTSTAMP:20220208T135436Z
URL:https://www.lincs.fr/events/least-recently-used-caches-under-the-shotn
 oise-model/
SUMMARY:Least Recently Used caches under the ShotNoise Model
DESCRIPTION:\n\n\nTalk:\nLeast Recently Used caches under the ShotNoise
 Model\n\n\nAbstract:\nIn this paper we develop an analytical framework\,
 based on the Che approximationfor the analysis of Least Recently Used (LRU)
 caches operating under the Shot Noise requests Model (SNM).The SNM was
 recently proposed to better capture the main characteristics of today Video
 on Demand (Vod) traffic.In this context\, the Che approximation is derived
 as the application of a mean field principle to the cache eviction time. We
 investigate the validity of this approximation through an asymptotic
 analysisof the cache eviction time. Particularly\, we provide a large
 deviation principle and a central limit theorem for the cache eviction
 time\, as the cache size grows large. Furthermore\, we obtain a
 non-asymptotic analytical upper bound on the error entailed by Che's
 approximation of the hit probability. This work appeared at IEEE
 INFOCOM'15\n\n\n
CATEGORIES:Seminars,Youtube
LOCATION:LINCS Meeting Room 40\, 23\, avenue d'Italie\, Paris\, 75013\,
 France
GEO:48.8283983;2.3568972000000485
X-APPLE-STRUCTURED-LOCATION;VALUE=URI;X-ADDRESS=23\, avenue d'Italie\,
 Paris\, 75013\, France;X-APPLE-RADIUS=100;X-TITLE=LINCS Meeting Room
 40:geo:48.8283983,2.3568972000000485
END:VEVENT
BEGIN:VTIMEZONE
TZID:Europe/Paris
X-LIC-LOCATION:Europe/Paris
BEGIN:DAYLIGHT
DTSTART:20150329T030000
TZOFFSETFROM:+0100
TZOFFSETTO:+0200
TZNAME:CEST
END:DAYLIGHT
END:VTIMEZONE
END:VCALENDAR