BEGIN:VCALENDAR
VERSION:2.0
PRODID:-//wp-events-plugin.com//7.2.3.1//EN
BEGIN:VEVENT
UID:103@lincs.fr
DTSTART;TZID=Europe/Paris:20150415T140000
DTEND;TZID=Europe/Paris:20150415T150000
DTSTAMP:20170313T171200Z
URL:https://www.lincs.fr/events/analyzing-interference-static-cellular-coo
 peration-using-nearest-neighbour-model/
SUMMARY:Analyzing Interference from Static Cellular Cooperation using the
 Nearest Neighbour Model
DESCRIPTION:The problem of base station cooperation has recently been set
 within the framework of Stochastic Geometry. Existing works consider that a
 user dynamically chooses the set of stations that cooperate for his/her
 service. However\, this assumption often does not hold. Cooperation groups
 could be predefined and static\, with nodes connected by fixed
 infrastructure. To analyse such a potential network\, in this work we
 propose a grouping method based on proximity. It is a variation of the so
 called Nearest Neighbour Model. We restrict ourselves to the simplest case
 where only singles and pairs of base stations are allowed to be formed. For
 this\, two new point processes are defined from the dependent thinning of a
 Poisson Point Process\, one for the singles and one for the pairs.
 Structural characteristics for the two are provided\, including their
 density\, Voronoi surface\, nearest neighbour\, empty space and J-function.
 We further make use of these results to analyse their interference fields
 and give explicit formulas to their expected value and their Laplace
 transform. The results constitute a novel toolbox towards the performance
 evaluation of networks with static cooperation.
CATEGORIES:Seminars,Youtube
LOCATION:LINCS Meeting Room 40\, 23\, avenue d'Italie\, Paris\, 75013\,
 France
GEO:48.8283983;2.3568972000000485
X-APPLE-STRUCTURED-LOCATION;VALUE=URI;X-ADDRESS=23\, avenue d'Italie\,
 Paris\, 75013\, France;X-APPLE-RADIUS=100;X-TITLE=LINCS Meeting Room
 40:geo:48.8283983,2.3568972000000485
END:VEVENT
BEGIN:VTIMEZONE
TZID:Europe/Paris
X-LIC-LOCATION:Europe/Paris
BEGIN:DAYLIGHT
DTSTART:20150329T030000
TZOFFSETFROM:+0100
TZOFFSETTO:+0200
TZNAME:CEST
END:DAYLIGHT
END:VTIMEZONE
END:VCALENDAR