BEGIN:VCALENDAR
VERSION:2.0
PRODID:-//wp-events-plugin.com//7.2.3.1//EN
BEGIN:VEVENT
UID:398@lincs.fr
DTSTART;TZID=Europe/Paris:20180910T103000
DTEND;TZID=Europe/Paris:20180910T120000
DTSTAMP:20190513T084638Z
URL:https://www.lincs.fr/events/jit-acceleration-in-python-introduction-to
 -numba/
SUMMARY:JiT acceleration in Python: introduction to Numba
DESCRIPTION:This tutorial will explain how to easily turn slow Python into
 fast Python with the numba package. Speed up of X2000 will be demonstrated
 on hyperion\, Lincs' brand new machine. A notebook will be provided for
 those who want to try on their own machine. Quick guide to notebook
 installation:\n\nhttps://github.com/balouf/JupTricks/blob/master/NoteBookGu
 ide.ipynb\n\n
CATEGORIES:Network Theory,Tools, Tips and Tricks,Working Group
LOCATION:Telecom Paristech\, I304 (3rd floor)\, 23\, avenue d'Italie\,
 Paris\, 75013\, France
GEO:48.8283983;2.3568972000000485
X-APPLE-STRUCTURED-LOCATION;VALUE=URI;X-ADDRESS=23\, avenue d'Italie\,
 Paris\, 75013\, France;X-APPLE-RADIUS=100;X-TITLE=Telecom Paristech\, I304
 (3rd floor):geo:48.8283983,2.3568972000000485
END:VEVENT
BEGIN:VTIMEZONE
TZID:Europe/Paris
X-LIC-LOCATION:Europe/Paris
BEGIN:DAYLIGHT
DTSTART:20180325T030000
TZOFFSETFROM:+0100
TZOFFSETTO:+0200
TZNAME:CEST
END:DAYLIGHT
END:VTIMEZONE
END:VCALENDAR