BEGIN:VCALENDAR
VERSION:2.0
PRODID:-//wp-events-plugin.com//7.2.3.1//EN
BEGIN:VEVENT
UID:33@lincs.fr
DTSTART;TZID=Europe/Paris:20161207T140000
DTEND;TZID=Europe/Paris:20161207T150000
DTSTAMP:20170313T170809Z
URL:https://www.lincs.fr/events/irt-systemx-le-programme-internet-de-confi
 ance-et-le-projet-cloud-et-virtualisation/
SUMMARY:IRT SystemX: le programme &quot\;Internet de Confiance&quot\; et le
 projet &quot\;Cloud et virtualisation&quot\;
DESCRIPTION:Presentation du programme IRT SystemX qui comprend les
 thÃ©matiques CybersÃ©curitÃ© et Ã©volutionsdes architectures
 rÃ©seaux.
CATEGORIES:Seminars,Youtube
LOCATION:LINCS Meeting Room 40\, 23\, avenue d'Italie\, Paris\, 75013\,
 France
GEO:48.8283983;2.3568972000000485
X-APPLE-STRUCTURED-LOCATION;VALUE=URI;X-ADDRESS=23\, avenue d'Italie\,
 Paris\, 75013\, France;X-APPLE-RADIUS=100;X-TITLE=LINCS Meeting Room
 40:geo:48.8283983,2.3568972000000485
END:VEVENT
BEGIN:VTIMEZONE
TZID:Europe/Paris
X-LIC-LOCATION:Europe/Paris
BEGIN:STANDARD
DTSTART:20161030T020000
TZOFFSETFROM:+0200
TZOFFSETTO:+0100
TZNAME:CET
END:STANDARD
END:VTIMEZONE
END:VCALENDAR