BEGIN:VCALENDAR
VERSION:2.0
PRODID:-//wp-events-plugin.com//7.2.3.1//EN
BEGIN:VEVENT
UID:151@lincs.fr
DTSTART;TZID=Europe/Paris:20140605T093000
DTEND;TZID=Europe/Paris:20140605T101500
DTSTAMP:20220208T133215Z
URL:https://www.lincs.fr/events/invited-talk-sc-1-evaluating-mobility-next
 -generation-network-architectures/
SUMMARY:Invited talk from SC-1 Evaluating Mobility in Next-generation
 Network Architectures
DESCRIPTION:
CATEGORIES:Seminars
LOCATION:LINCS Meeting Room 40\, 23\, avenue d'Italie\, Paris\, 75013\,
 France
GEO:48.8283983;2.3568972000000485
X-APPLE-STRUCTURED-LOCATION;VALUE=URI;X-ADDRESS=23\, avenue d'Italie\,
 Paris\, 75013\, France;X-APPLE-RADIUS=100;X-TITLE=LINCS Meeting Room
 40:geo:48.8283983,2.3568972000000485
END:VEVENT
BEGIN:VTIMEZONE
TZID:Europe/Paris
X-LIC-LOCATION:Europe/Paris
BEGIN:DAYLIGHT
DTSTART:20140330T030000
TZOFFSETFROM:+0100
TZOFFSETTO:+0200
TZNAME:CEST
END:DAYLIGHT
END:VTIMEZONE
END:VCALENDAR