BEGIN:VCALENDAR
VERSION:2.0
PRODID:-//wp-events-plugin.com//7.2.3.1//EN
BEGIN:VEVENT
UID:511@lincs.fr
DTSTART;TZID=Europe/Paris:20191120T103000
DTEND;TZID=Europe/Paris:20191120T120000
DTSTAMP:20191125T141424Z
URL:https://www.lincs.fr/events/introduction-to-python-2/
SUMMARY:Introduction to Python (2)
DESCRIPTION:We’ll cover basics of Python and design aspects.\n\nDo not
 hesitate to come even if you did not attend the first session.\n\nDownload
 the notebook.
CATEGORIES:Tools, Tips and Tricks,Working Group
LOCATION:Doctoral Training Center (EIT Digital)\, 23\, avenue d'Italie\,
 Paris\, 75013\, France
GEO:48.8283983;2.3568972000000485
X-APPLE-STRUCTURED-LOCATION;VALUE=URI;X-ADDRESS=23\, avenue d'Italie\,
 Paris\, 75013\, France;X-APPLE-RADIUS=100;X-TITLE=Doctoral Training Center
 (EIT Digital):geo:48.8283983,2.3568972000000485
END:VEVENT
BEGIN:VTIMEZONE
TZID:Europe/Paris
X-LIC-LOCATION:Europe/Paris
BEGIN:STANDARD
DTSTART:20191027T020000
TZOFFSETFROM:+0200
TZOFFSETTO:+0100
TZNAME:CET
END:STANDARD
END:VTIMEZONE
END:VCALENDAR