BEGIN:VCALENDAR
VERSION:2.0
PRODID:-//wp-events-plugin.com//7.2.3.1//EN
BEGIN:VEVENT
UID:731@lincs.fr
DTSTART;TZID=Europe/Paris:20221116T113000
DTEND;TZID=Europe/Paris:20221116T123000
DTSTAMP:20221122T093205Z
URL:https://www.lincs.fr/events/introduction-to-multi-agent-reinforcement-
 learning-with-petting-zoo/
SUMMARY:Introduction to Multi-Agent Reinforcement Learning with Petting Zoo
DESCRIPTION:PettingZoo (https://pettingzoo.farama.org/) is an open source
 Python source library supported by Farama Foundation to accelerate research
 in multi-agent reinforcement learning (RL). Inheriting the standard
 features of the popular RL interface Gym\, it extends its API to handle
 multiple agents by following an Agent Environment Cycle ("AEC") games mode.
 In this workshop we will:\n\n 	Discover the PettingZoo library and explore
 supported multi-agent environments\,\n 	Learn RL policies for a multi-agent
 benchmark task in a PettingZoo environment\,\n 	Create a custom environment
 in PettingZoo.\n
CATEGORIES:Tools, Tips and Tricks,Working Group,Youtube
LOCATION:Telecom Paris\, 19 place Marguerite Perey\, Palaiseau\, 91120\,
 France
X-APPLE-STRUCTURED-LOCATION;VALUE=URI;X-ADDRESS=19 place Marguerite Perey\,
 Palaiseau\, 91120\, France;X-APPLE-RADIUS=100;X-TITLE=Telecom Paris:geo:0,0
END:VEVENT
BEGIN:VTIMEZONE
TZID:Europe/Paris
X-LIC-LOCATION:Europe/Paris
BEGIN:STANDARD
DTSTART:20221030T020000
TZOFFSETFROM:+0200
TZOFFSETTO:+0100
TZNAME:CET
END:STANDARD
END:VTIMEZONE
END:VCALENDAR