BEGIN:VCALENDAR
VERSION:2.0
PRODID:-//wp-events-plugin.com//7.2.3.1//EN
BEGIN:VEVENT
UID:124@lincs.fr
DTSTART;TZID=Europe/Paris:20141008T143000
DTEND;TZID=Europe/Paris:20141008T150000
DTSTAMP:20170313T171220Z
URL:https://www.lincs.fr/events/analyzing-cacheable-traffic-isp-access-net
 works-micro-cdn-applications-via-content-centric-networking/
SUMMARY:Analyzing Cacheable Traffic in ISP Access Networks for Micro CDN
 Applications via Content-Centric Networking
DESCRIPTION:Web content coming from outside the ISP is today skyrocketing\,
 causing significant additional infrastructure costs to network operators.
 The reduced marginal revenues left to ISPs\, whose business is almost
 entirely based on declining flat rate subscriptions\, call for significant
 innovation within the network infrastructure\, to support new service
 delivery.In this paper\, we suggest the use of micro CDNs in ISP access and
 back-haul networks to reduce redundant web traffic within the ISP
 infrastructure while improving user's QoS.With micro CDN we refer to a
 content delivery system composed of (i) a high speed caching substrate\,
 (ii) a content based routing protocol and (iii) a set of data transfer
 mechanisms made available by content-centric networking.The contribution of
 this paper is twofold. First\, we extensively analyze more than one month
 of web traffic via continuous monitoring between the access and back-haul
 network of Orange in France. Second\, we characterize key properties of
 monitored traffic\, such as content popularity and request cacheability\,
 to infer potential traffic reduction enabled by the introduction of micro
 CDNs.Based on these findings\, we then perform micro CDN dimensioning in
 terms of memory requirements and provide guidelines on design choices.
CATEGORIES:Seminars,Youtube
LOCATION:LINCS Meeting Room 40\, 23\, avenue d'Italie\, Paris\, 75013\,
 France
GEO:48.8283983;2.3568972000000485
X-APPLE-STRUCTURED-LOCATION;VALUE=URI;X-ADDRESS=23\, avenue d'Italie\,
 Paris\, 75013\, France;X-APPLE-RADIUS=100;X-TITLE=LINCS Meeting Room
 40:geo:48.8283983,2.3568972000000485
END:VEVENT
BEGIN:VTIMEZONE
TZID:Europe/Paris
X-LIC-LOCATION:Europe/Paris
BEGIN:DAYLIGHT
DTSTART:20140330T030000
TZOFFSETFROM:+0100
TZOFFSETTO:+0200
TZNAME:CEST
END:DAYLIGHT
END:VTIMEZONE
END:VCALENDAR