BEGIN:VCALENDAR
VERSION:2.0
PRODID:-//wp-events-plugin.com//7.2.3.1//EN
BEGIN:VEVENT
UID:325@lincs.fr
DTSTART;TZID=Europe/Paris:20170710T143000
DTEND;TZID=Europe/Paris:20170710T150000
DTSTAMP:20170925T103632Z
URL:https://www.lincs.fr/events/incentive-mechanism-design-for-public-cryp
 tocurrencies/
SUMMARY:Incentive Mechanism Design for Public Cryptocurrencies
DESCRIPTION:Presentation for the Working Group on BitCoin.
CATEGORIES:Working Group,Youtube
LOCATION:LINCS Seminars room\, 23\, avenue d'Italie\, Paris\, 75013\,
 France
GEO:48.828400;2.356897
X-APPLE-STRUCTURED-LOCATION;VALUE=URI;X-ADDRESS=23\, avenue d'Italie\,
 Paris\, 75013\, France;X-APPLE-RADIUS=100;X-TITLE=LINCS Seminars
 room:geo:48.828400,2.356897
END:VEVENT
BEGIN:VTIMEZONE
TZID:Europe/Paris
X-LIC-LOCATION:Europe/Paris
BEGIN:DAYLIGHT
DTSTART:20170326T030000
TZOFFSETFROM:+0100
TZOFFSETTO:+0200
TZNAME:CEST
END:DAYLIGHT
END:VTIMEZONE
END:VCALENDAR