BEGIN:VCALENDAR
VERSION:2.0
PRODID:-//wp-events-plugin.com//7.2.3.1//EN
BEGIN:VEVENT
UID:315@lincs.fr
DTSTART;TZID=Europe/Paris:20170529T140000
DTEND;TZID=Europe/Paris:20170529T150000
DTSTAMP:20170523T122107Z
URL:https://www.lincs.fr/events/hybrid-energy-harvesting-wireless-systems/
SUMMARY:Hybrid Energy Harvesting Wireless Systems: Performance Evaluation
 and Insights
DESCRIPTION:\n\n\nAbstract:\nEnergy harvesting (EH) is an attractive and
 green solution to the problem of limited lifetime of wireless sensor
 networks. Unlike a conventional node that dies once it runs out of energy\,
 an EH node harvests energy from the environment and replenishes its
 rechargeable battery. We investigate a new class of hybrid networks that
 comprise both EH and conventional nodes and differ from conventional and
 all-EH wireless sensor networks. We argue that the performance criteria
 that are used to evaluate conventional and all-EH networks are no longer
 suitable to evaluate this new class of networks.  We propose two new and
 insightful performance criteria called k-outage duration and n-transmission
 duration to evaluate these networks. They overcome the pitfalls associated
 with defining lifetime\, which arise because the EH nodes never die but can
 occasionally run out of energy\, and capture the dynamic time evolution\,
 which occurs because the conventional nodes irreversibly drain their
 batteries. They also account for the inability of the nodes to transmit
 data due to insufficient battery energy and channel fading. We present
 computationally efficient novel bounds for evaluating these criteria and
 gain several insights about the behavior of these
 networks.\n\n\nBiography:\nNeelesh B. Mehta received his B. Tech degree in
 Electronics and Communications Engineering from the Indian Institute of
 Technology (IIT) Madras\, in 1996\, and M.S. and Ph.D. degrees in
 Electrical Engineering from the California Institute of Technology\,
 Pasadena\, USA\, in 1997 and 2001\, respectively. He is a Professor in the
 Department of Electrical Communication Engineering at the Indian Institute
 of Science (IISc)\, Bangalore. Prior to joining IISc in 2009\, he served as
 a research scientist in USA from 2001 to 2007 in companies such as AT&T
 Research Labs\, Broadcom Corporation\, and Mitsubishi Electric Research
 Labs (MERL).  \nHis research focuses on wireless communications. He has
 worked on topics related to 3G\, 4G\, and 5G cellular communication
 standards\, energy harvesting and green wireless sensor networks\,
 cognitive radio\, cooperative communications\, multi-antenna technologies\,
 and multiple access protocols. He has published 60+ papers in IEEE
 journals\, 3 book chapters\, and 70+ conference papers. He is a co-inventor
 of 30+ issued US patents on these topics.  \nHe served on the Board of
 Governors of the IEEE Communications Society from 2012-15. He is a Fellow
 of the Indian National Academy of Engineering (INAE) and the National
 Academy of Sciences India (NASI). He is a recipient of the Swarnajayanti
 Fellowship\, NASI-Scopus Young Scientist award\, Hari Om Ashram Prerit
 Vikram Sarabhai Research Award\, and the INAE Young Engineer award. He
 serves as an editor of the IEEE Transactions on Communications and as an
 Executive Editor of the IEEE Transactions on Wireless Communications.\n\n\n
CATEGORIES:Seminars
LOCATION:LINCS Seminars room\, 23\, avenue d'Italie\, Paris\, 75013\,
 France
GEO:48.828400;2.356897
X-APPLE-STRUCTURED-LOCATION;VALUE=URI;X-ADDRESS=23\, avenue d'Italie\,
 Paris\, 75013\, France;X-APPLE-RADIUS=100;X-TITLE=LINCS Seminars
 room:geo:48.828400,2.356897
END:VEVENT
BEGIN:VTIMEZONE
TZID:Europe/Paris
X-LIC-LOCATION:Europe/Paris
BEGIN:DAYLIGHT
DTSTART:20170326T030000
TZOFFSETFROM:+0100
TZOFFSETTO:+0200
TZNAME:CEST
END:DAYLIGHT
END:VTIMEZONE
END:VCALENDAR