BEGIN:VCALENDAR
VERSION:2.0
PRODID:-//wp-events-plugin.com//7.2.3.1//EN
BEGIN:VEVENT
UID:108@lincs.fr
DTSTART;TZID=Europe/Paris:20150225T140000
DTEND;TZID=Europe/Paris:20150225T150000
DTSTAMP:20170313T171202Z
URL:https://www.lincs.fr/events/hitchhikers-guide-ontology/
SUMMARY:A Hitchhiker&#039\;s guide to ontology
DESCRIPTION:In this talk\, I will present our recent work in the area
 ofknowledge bases. It covers 4 areas of research around ontologies
 andknowledge bases: The first area is the construction of the YAGOknowledge
 base. YAGO is now mulitlingual\, and has grown into a largerproject at the
 Max Planck Institute for Informatics and TÃƒÂ©lÃƒÂ©comParisTech.
 The second area is the alignment of knowledge bases. Thisincludes the
 alignment of classes\, instances\, and relations acrossknowledge bases. The
 third area is rule mining. Our project findssemantic correlations in the
 form of Horn rules in the knowledge base.I will also talk about
 watermarking approaches to trace the provenanceof ontological data.
 Finally\, I will show applications of theknowledge base for mining news
 corpora.
CATEGORIES:Seminars,Youtube
LOCATION:LINCS Meeting Room 40\, 23\, avenue d'Italie\, Paris\, 75013\,
 France
GEO:48.8283983;2.3568972000000485
X-APPLE-STRUCTURED-LOCATION;VALUE=URI;X-ADDRESS=23\, avenue d'Italie\,
 Paris\, 75013\, France;X-APPLE-RADIUS=100;X-TITLE=LINCS Meeting Room
 40:geo:48.8283983,2.3568972000000485
END:VEVENT
BEGIN:VTIMEZONE
TZID:Europe/Paris
X-LIC-LOCATION:Europe/Paris
BEGIN:STANDARD
DTSTART:20141026T020000
TZOFFSETFROM:+0200
TZOFFSETTO:+0100
TZNAME:CET
END:STANDARD
END:VTIMEZONE
END:VCALENDAR