BEGIN:VCALENDAR
VERSION:2.0
PRODID:-//wp-events-plugin.com//7.2.3.1//EN
BEGIN:VEVENT
UID:762@lincs.fr
DTSTART;TZID=Europe/Paris:20230405T103000
DTEND;TZID=Europe/Paris:20230405T113000
DTSTAMP:20230407T091748Z
URL:https://www.lincs.fr/events/gaussian-limit-laws-and-generating-series/
SUMMARY:Gaussian limit laws and generating series
DESCRIPTION:The Central Limit Theorem states that some sums of random
 variables\, once renormalized\, converge to the Gaussian distribution. Some
 parameters of large combinatorial objects have a similar flavor but do not
 satisfy the independence assumption. I will present tools from analytic
 combinatorics to handle those parameters and prove Gaussian limit laws (and
 many others!).
CATEGORIES:Network Theory,Working Group,Youtube
LOCATION:Room 4B01\, 19 place Marguerite Perey\, Palaiseau\, France
X-APPLE-STRUCTURED-LOCATION;VALUE=URI;X-ADDRESS=19 place Marguerite Perey\,
 Palaiseau\, France;X-APPLE-RADIUS=100;X-TITLE=Room 4B01:geo:0,0
END:VEVENT
BEGIN:VTIMEZONE
TZID:Europe/Paris
X-LIC-LOCATION:Europe/Paris
BEGIN:DAYLIGHT
DTSTART:20230326T030000
TZOFFSETFROM:+0100
TZOFFSETTO:+0200
TZNAME:CEST
END:DAYLIGHT
END:VTIMEZONE
END:VCALENDAR