BEGIN:VCALENDAR
VERSION:2.0
PRODID:-//wp-events-plugin.com//7.2.3.1//EN
BEGIN:VEVENT
UID:486@lincs.fr
DTSTART;TZID=Europe/Paris:20190612T163000
DTEND;TZID=Europe/Paris:20190612T164500
DTSTAMP:20190806T131001Z
URL:https://www.lincs.fr/events/g-iota-e-iota/
SUMMARY:G-IOTA & E-IOTA
DESCRIPTION:\nTags: Bu Gewu \, Sorbonne Université \, Lip6 \, UPMC \,
 G-IOTA &amp\; E-IOTA \,  BlockChain Day \n\n\n\nSlides Gewu Bu - G-IOTA
 &amp\; E-IOTADownload\n
CATEGORIES:BlockChain Day,Other Worshops,Workshop,Youtube
LOCATION:Paris-Rennes-Nice Room (EIT Digital)\, 23\, avenue d'Italie\,
 Paris\, 75013\, France
X-APPLE-STRUCTURED-LOCATION;VALUE=URI;X-ADDRESS=23\, avenue d'Italie\,
 Paris\, 75013\, France;X-APPLE-RADIUS=100;X-TITLE=Paris-Rennes-Nice Room
 (EIT Digital):geo:0,0
END:VEVENT
BEGIN:VTIMEZONE
TZID:Europe/Paris
X-LIC-LOCATION:Europe/Paris
BEGIN:DAYLIGHT
DTSTART:20190331T030000
TZOFFSETFROM:+0100
TZOFFSETTO:+0200
TZNAME:CEST
END:DAYLIGHT
END:VTIMEZONE
END:VCALENDAR