BEGIN:VCALENDAR
VERSION:2.0
PRODID:-//wp-events-plugin.com//7.2.3.1//EN
BEGIN:VEVENT
UID:177@lincs.fr
DTSTART;TZID=Europe/Paris:20120221T143000
DTEND;TZID=Europe/Paris:20120221T153000
DTSTAMP:20190124T113248Z
URL:https://www.lincs.fr/events/fock-space-representation-and-variational-
 analysis-of-poisson-functionals/
SUMMARY:Fock space representation and variational  analysis of Poisson
 functionals
DESCRIPTION:We consider a Poisson process Phi on a general phase space. The
 expectation of a function of Phi can be considered as a functional of the
 intensity measure lambda of Phi. Extending ealier results of Molchanov and
 Zuyev (2000) on finite Poisson processes\, we will study the behaviour of
 this functional under signed (possibly infinite) perturbations of lambda. A
 key ingredient of our approach is the explicit Fock space representation
 obtained in Last and Penrose (2011). As an application we will discuss the
 infinite cluster in a supercitical Boolean model.\nThis part of the talk is
 based on joint work with Sergei Zuyev.\n\n\n\n
CATEGORIES:Seminars
LOCATION:LINCS Meeting Room 40\, 23\, avenue d'Italie\, Paris\, 75013\,
 France
GEO:48.8283983;2.3568972000000485
X-APPLE-STRUCTURED-LOCATION;VALUE=URI;X-ADDRESS=23\, avenue d'Italie\,
 Paris\, 75013\, France;X-APPLE-RADIUS=100;X-TITLE=LINCS Meeting Room
 40:geo:48.8283983,2.3568972000000485
END:VEVENT
BEGIN:VTIMEZONE
TZID:Europe/Paris
X-LIC-LOCATION:Europe/Paris
BEGIN:STANDARD
DTSTART:20111030T020000
TZOFFSETFROM:+0200
TZOFFSETTO:+0100
TZNAME:CET
END:STANDARD
END:VTIMEZONE
END:VCALENDAR